Workbook
Name _bsType: [1]nomenclature!$A$17:$A$18
Name _bsType: nomenclature!$A$17:$A$18
Name _country: [1]nomenclature!$D$2:$D$246
Name _country: nomenclature!$D$2:$D$246
Name _Currencies: [1]nomenclature!$G$3:$G$164
Name _Currencies: nomenclature!$G$3:$G$164
Name _Deposits: nomenclature!$J$3:$J$4
Name _instrument: [1]nomenclature!$A$2:$A$11
Name _instrument: nomenclature!$A$2:$A$11
Name _Instrument_49_2: [1]nomenclature!$A$38:$A$41
Name _Instrument_49_2: nomenclature!$A$38:$A$41
Name _Instrument_Type_Group: [1]nomenclature!$A$28:$A$34
Name _Instrument_Type_Group: nomenclature!$A$28:$A$34
Name _SecurityType: [1]nomenclature!$A$23:$A$24
Name _SecurityType: nomenclature!$A$23:$A$24
Name authorEmail: cover!$C$29
Name authorName: [1]cover!$C$26
Name authorName: cover!$C$26
Name authorPhone: cover!$C$28
Name authorPosition: cover!$C$27
Name dfBulstat: cover!$C$13
Name dfEmail: cover!$C$17
Name dfName: [1]cover!$C$11
Name dfName: cover!$C$11
Name dfOfficialAddress: cover!$C$14
Name dfPhone: cover!$C$16
Name dfPostAddress: cover!$C$15
Name dfRG: [1]cover!$C$12
Name dfRG: cover!$C$12
Name EndDate: [1]cover!$C$7
Name EndDate: cover!$C$7
Name ReportedCompletionDate: [1]cover!$C$8
Name ReportedCompletionDate: cover!$C$8
Name StartDate: [1]cover!$C$6
Name StartDate: cover!$C$6
Name udBulstat: cover!$C$22
Name udManager: [1]cover!$C$23
Name udManager: cover!$C$23
Name udName: cover!$C$20
Name udRG: cover!$C$21

Sheet cover
B2: СПРАВКИ
B3: за договорни фондове и инвестиционни дружества
B5: Данни за отчетния период
B6: Начална дата: | C6: 43831
B7: Крайна дата: | C7: 44012
B8: Дата на изготвяне на отчета: | C8: 44028
B10: Данни за поднадзорното лице
B11: Наименование на ДФ/ИД: | C11: Договорен фонд "ЕФ - Принсипал"
B12: Номер РГ: | C12: 05-1204
B13: ЕИК: | C13: 131467907
B14: Адрес на управление: | C14: гр. София, бул. Христофор Колумб 43
B15: Адрес за кореспонденция: | C15: гр. София, бул. Христофор Колумб 43
B16: Телефон: | C16: 02/9021944
B17: E-mail: | C17: office@efam.bg
B19: Данни за управляващото дружество
B20: Наименование на УД: | C20: ЕФ Асет Мениджмънт АД
B21: Номер РГ: | C21: 08-0010
B22: ЕИК: | C22: 131422901
B23: Представляващ: | C23: Иван Овчаров
B25: Данни за представените справки
B26: Съставител: | C26: Ивелина Иванова
B27: Длъжност: | C27: Главен Счетоводител
B28: Телефон: | C28: 02/9021944
B29: E-mail: | C29: office@efam.bg
B35: 1-SB | C35: ОТЧЕТ ЗА ФИНАНСОВОТО СЪСТОЯНИЕ
B36: 2-OD | C36: ОТЧЕТ ЗА ВСЕОБХВАТНИЯ ДОХОД
B37: 3-OPP | C37: ОТЧЕТ ЗА ПАРИЧНИТЕ ПОТОЦИ ПО ПРЕКИЯ МЕТОД
B38: 4-OSK | C38: ОТЧЕТ ЗА ПРОМЕНИТЕ В СОБСТВЕНИЯ КАПИТАЛ
B39: 5-DI | C39: ДОПЪЛНИТЕЛНА ИНФОРМАЦИЯ ПО ЧЛ. 73, АЛ. 1 ОТ НАРЕДБА № 44
B40: 6-NNA | C40: СПРАВКА ЗА НЕТЕКУЩИТЕ НЕФИНАНСОВИ АКТИВИ
B41: 7-RP | C41: СПРАВКА ЗА КРАТКОСРОЧНИТЕ ВЗЕМАНИЯ И ЗАДЪЛЖЕНИЯ
B42: 8-FI | C42: СПРАВКА ЗА ФИНАНСОВИТЕ ИНСТРУМЕНТИ
... B46: 12-NIO | C46: СПРАВКА ЗА НАРУШЕНИ ИНВЕСТИЦИОННИ ОГРАНИЧЕНИЯ, СЪГЛАСНО ЧЛ. 51 ОТ ЗДКИСДПКИ

Sheet 1-SB
H1: Справка № 1 КИС-ОФС
A2: ОТЧЕТ ЗА ФИНАНСОВОТО СЪСТОЯНИЕ
A3: =CONCATENATE("на ",UPPER(dfName)) -> на ДОГОВОРЕН ФОНД "ЕФ - ПРИНСИПАЛ"
A4: =CONCATENATE("към ",TEXT(EndDate,"dd.mm.yyyy")," г.") -> към 30.06.2020 г. | F4: Дата: | G4: =ReportedCompletionDate -> 44028
F5: Съставител: | G5: =authorName -> Ивелина Иванова
F6: Ръководител: | G6: =udManager -> Иван Овчаров
H7: (в лева)
A8: АКТИВИ | B8: Код | C8: Текущ период | D8: Предходен период | E8: СОБСТВЕН КАПИТАЛ И ПАСИВИ | F8: Код | G8: Текущ период | H8: Предходен период
A9: а | B9: б | C9: 1 | D9: 2 | E9: а | F9: б | G9: 1 | H9: 2
A10: А. НЕТЕКУЩИ АКТИВИ | E10: А. СОБСТВЕН КАПИТАЛ
A11: I. Финансови активи | E11: I. Основен капитал | F11: SB.2.1.1.0.0.0 | G11: 22821320 | H11: 18057773
A12: 1. Ценни книжа, в т.ч.: | B12: SB.1.1.1.1.0.0 | C12: =C13+C14 -> 0 | D12: =D13+D14 -> 0 | E12: II. Резерви
A13: акции | B13: SB.1.1.1.1.1.0 | E13: 1. Премийни резерви при емитиране/обратно изкупуване на акции/дялове | F13: SB.2.1.2.1.0.0 | G13: 1149788.8 | H13: 1083336
A14: дългови | B14: SB.1.1.1.1.2.0 | E14: 2. Резерви от последващи оценки на активи и пасиви | F14: SB.2.1.2.2.0.0
A15: 2. Други финансови инструменти | B15: SB.1.1.1.2.0.0 | E15: 3. Общи резерви | F15: SB.2.1.2.3.0.0
A16: Общо за група I | B16: SB.1.1.1.0.0.0 | C16: =C12+C15 -> 0 | D16: =D12+D15 -> 0 | E16: Общо за група ІІ | F16: SB.2.1.2.0.0.0 | G16: =SUM(G13:G15) -> 1149788.8 | H16: =SUM(H13:H15) -> 1083336
A17: II. Други нетекущи активи | B17: SB.1.1.2.0.0.0 | E17: III. Финансов резултат
A18: ОБЩО ЗА РАЗДЕЛ А | B18: SB.1.1.0.0.0.0 | C18: =C16+C17 -> 0 | D18: =D16+D17 -> 0 | E18: 1. Натрупана печалба (загуба), в т.ч.: | F18: SB.2.1.3.1.0.0 | G18: =SUM(G19:G20) -> -423649.43 | H18: =SUM(H19:H20) -> -451780.05
A19: Б. ТЕКУЩИ АКТИВИ | E19: неразпределена печалба | F19: SB.2.1.3.1.1.0 | G19: 699828.77 | H19: 671698.15
A20: I. Парични средства | E20: непокрита загуба | F20: SB.2.1.3.1.2.0 | G20: -1123478.2 | H20: -1123478.2
A21: 1. Парични средства в каса | B21: SB.1.2.1.1.0.0 | E21: 2. Текуща печалба | F21: SB.2.1.3.2.0.0 | G21: 0 | H21: 28130.62
A22: 2. Парични средства по безсрочни депозити | B22: SB.1.2.1.2.0.0 | C22: 1174593.7 | D22: 1006107.1 | E22: 3. Текуща загуба | F22: SB.2.1.3.3.0.0 | G22: -404949.16 | H22: 0
A23: 3. Парични средства по срочни депозити | B23: SB.1.2.1.3.0.0 | C23: 700700 | D23: 700000 | E23: Общо за група IІІ | F23: SB.2.1.3.0.0.0 | G23: =G19+G21+G20+G22 -> -828598.59 | H23: =H19+H21+H20+H22 -> -423649.43
A24: 4. Блокирани парични средства | B24: SB.1.2.1.4.0.0 | E24: ОБЩО ЗА РАЗДЕЛ А | F24: SB.2.1.0.0.0.0 | G24: =G11+G16+G23 -> 23142510 | H24: =H11+H16+H23 -> 18717459
A25: Общо за група I | B25: SB.1.2.1.0.0.0 | C25: =SUM(C21:C24) -> 1875293.7 | D25: =SUM(D21:D24) -> 1706107.1
A26: II. Текущи финансови инструменти | E26: Б. ТЕКУЩИ ПАСИВИ
A27: 1. Ценни книжа, в т.ч.: | B27: SB.1.2.2.1.0.0 | C27: =SUM(C28:C31) -> 19066661 | D27: =SUM(D28:D31) -> 15597972 | E27: 1. Задължения, свързани с дивиденти | F27: SB.2.2.1.1.0.0
A28: акции | B28: SB.1.2.2.1.1.0 | C28: 15865943 | D28: 13082992 | E28: 2. Задължения към финансови институции, в т.ч.: | F28: SB.2.2.1.2.0.0 | G28: =SUM(G29:G31) -> 46951.19 | H28: =SUM(H29:H31) -> 1595.08
A29: права | B29: SB.1.2.2.1.2.0 | E29: към банка депозитар | F29: SB.2.2.1.2.1.0 | G29: 1582.12 | H29: 1595.08
A30: дългови | B30: SB.1.2.2.1.3.0 | C30: 2293627 | D30: 1622683.2 | E30: към управляващо дружество | F30: SB.2.2.1.2.2.0 | G30: 45369.07
A31: други | B31: SB.1.2.2.1.4.0 | C31: 907091.09 | D31: 892296.67 | E31: към кредитни институции | F31: SB.2.2.1.2.3.0
A32: 2. Инструменти на паричния пазар | B32: SB.1.2.2.2.0.0 | E32: 3. Задължения към контрагенти | F32: SB.2.2.1.3.0.0
A33: 3. Дялове на колективни инвестиционни схеми | B33: SB.1.2.2.3.0.0 | C33: 2189794.7 | D33: 1384733.5 | E33: 4. Задължения, свързани с възнаграждения | F33: SB.2.2.1.4.0.0
A34: 4. Деривативни финансови инструменти | B34: SB.1.2.2.4.0.0 | E34: 5. Задължения към осигурителни предприятия | F34: SB.2.2.1.5.0.0
A35: 5. Блокирани | B35: SB.1.2.2.5.0.0 | E35: 6. Данъчни задължения | F35: SB.2.2.1.6.0.0
A36: 6. Други финансови инструменти | B36: SB.1.2.2.6.0.0 | E36: 7. Задължения, свързани с емитиране | F36: SB.2.2.1.7.0.0
A37: Общо за група II | B37: SB.1.2.2.0.0.0 | C37: =SUM(C32:C36)+C27 -> 21256455 | D37: =SUM(D32:D36)+D27 -> 16982706 | E37: 8. Задължения, свързани с обратно изкупуване | F37: SB.2.2.1.8.0.0
A38: III. Нефинансови активи | E38: 9. Задължения, свързани със сделки с финансови инструменти | F38: SB.2.2.1.9.0.0
A39: 1. Вземания, свързани с лихви | B39: SB.1.2.3.1.0.0 | C39: 10772.22 | D39: 6771.42 | E39: 10. Други | F39: SB.2.2.1.10.0.0
A40: 2. Вземания по сделки с финансови инструменти | B40: SB.1.2.3.2.0.0 | C40: 0 | E40: ОБЩО ЗА РАЗДЕЛ Б | F40: SB.2.2.0.0.0.0 | G40: =SUM(G32:G39)+G28+G27 -> 46951.19 | H40: =SUM(H32:H39)+H28+H27 -> 1595.08
...

Sheet 2-OD
H1: Справка № 2 КИС-ОД
A2: ОТЧЕТ ЗА ВСЕОБХВАТНИЯ ДОХОД
A3: =CONCATENATE("на ",UPPER(dfName)) -> на ДОГОВОРЕН ФОНД "ЕФ - ПРИНСИПАЛ"
A4: ="за периода "&TEXT(StartDate,"dd.mm.yyyy")&" - "&TEXT(EndDate,"dd.mm.yyyy") -> за периода 01.01.2020 - 30.06.2020 | F4: Дата: | G4: =ReportedCompletionDate -> 44028
F5: Съставител: | G5: =authorName -> Ивелина Иванова
F6: Ръководител: | G6: =udManager -> Иван Овчаров
H7: (в лева)
A8: РАЗХОДИ | B8: Код | C8: Текущ период | D8: Предходен период | E8: ПРИХОДИ | F8: Код | G8: Текущ период | H8: Предходен период
A9: а | B9: б | C9: 1 | D9: 2 | E9: а | F9: б | G9: 1 | H9: 2
A10: А. Разходи за дейността | E10: А. Приходи от дейността
A11: I. Финансови разходи | E11: І. Финансови приходи
A12: 1. Разходи за лихви | B12: OD.1.1.1.1.0.0 | E12: 1. Приходи от дивиденти | F12: OD.2.1.1.1.0.0 | G12: 670 | H12: 13128.88
A13: 2. Отрицателни разлики от операции с финансови активи | B13: OD.1.1.1.2.0.0 | C13: 5739803.7 | D13: 3349744.1 | E13: 2. Положителни разлики от операции с финансови активи | F13: OD.2.1.1.2.0.0 | G13: 5535565.4 | H13: 3592475.3
A14: 3. Отрицателни разлики от последваща оценка на финансови активи | B14: OD.1.1.1.2.1.0 | C14: 3180.33 | D14: 3659.49 | E14: 3. Положителни разлики от последваща оценка на финансови активи | F14: OD.2.1.1.2.1.0
A15: 4. Разходи, свързани с валутни операции | B15: OD.1.1.1.3.0.0 | C15: 180.36 | D15: 0 | E15: 4. Приходи, свързани с валутни операции | F15: OD.2.1.1.3.0.0 | G15: 2518.17 | H15: 4081.03
A16: 5. Други финансови разходи | B16: OD.1.1.1.4.0.0 | C16: 354.95 | D16: 68.98 | E16: 5. Приходи от лихви | F16: OD.2.1.1.4.0.0 | G16: 76143.88 | H16: 77852.84
E17: 6. Други | F17: OD.2.1.1.5.0.0 | G17: 0 | H17: 0
A18: Общо за група І | B18: OD.1.1.1.0.0.0 | C18: =SUM(C12:C16) -> 5743519.4 | D18: =SUM(D12:D16) -> 3353472.6 | E18: Общо за група І | F18: OD.2.1.1.0.0.0 | G18: =SUM(G12:G17) -> 5614897.4 | H18: =SUM(H12:H17) -> 3687538
A19: ІІ. Нефинансови разходи | E19: ІІ. Нефинансови приходи
A20: 1. Разходи за материали | B20: OD.1.1.2.1.0.0
A21: 2. Разходи за външни услуги | B21: OD.1.1.2.2.0.0 | C21: 270093.03 | D21: 247950.04
A22: 3. Разходи за амортизация | B22: OD.1.1.2.3.0.0
A23: 4. Разходи, свързани с възнаграждения | B23: OD.1.1.2.4.0.0
A24: 5. Други | B24: OD.1.1.2.5.0.0 | C24: 6234.21 | D24: 73925.14
A25: Общо за група ІІ | B25: OD.1.1.2.0.0.0 | C25: =SUM(C20:C24) -> 276327.24 | D25: =SUM(D20:D24) -> 321875.18 | E25: Общо за група ІІ | F25: OD.2.1.2.0.0.0
A26: Б. Общо разходи за дейността (І+ІІ) | B26: OD.1.1.0.0.0.0 | C26: =C18+C25 -> 6019846.6 | D26: =D18+D25 -> 3675347.8 | E26: Б. Общо приходи от дейността (I+II) | F26: OD.2.1.0.0.0.0 | G26: =G18+G25 -> 5614897.4 | H26: =H18+H25 -> 3687538
A27: В. Печалба преди облагане с данъци | B27: OD.1.3.0.0.0.0 | C27: =IF((G26-C26)>0,G26-C26,0) -> 0 | D27: =IF((H26-D26)>0,H26-D26,0) -> 12190.29 | E27: В. Загуба преди облагане с данъци | F27: OD.2.2.0.0.0.0 | G27: =IF((C26-G26)>0,C26-G26,0) -> 404949.17 | H27: =IF((D26-H26)>0,D26-H26,0) -> 0
A28: III. Разходи за данъци | B28: OD.1.4.0.0.0.0
A29: Г. Нетна печалба за периода (В-III) | B29: OD.1.5.0.0.0.0 | C29: =C27-C28 -> 0 | D29: =D27-D28 -> 12190.29 | E29: Г. Нетна загуба за периода | F29: OD.2.3.0.0.0.0 | G29: =G27 -> 404949.17 | H29: =H27 -> 0
A30: ВСИЧКО (Б+III+Г) | B30: OD.1.6.0.0.0.0 | C30: =C26+C28+C29 -> 6019846.6 | D30: =D26+D28+D29 -> 3687538 | E30: ВСИЧКО (Б+Г) | F30: OD.2.4.0.0.0.0 | G30: =G26+G29 -> 6019846.6 | H30: =H26+H29 -> 3687538

Sheet 3-OPP
H1: Справка № З КИС-ОПП
A2: ОТЧЕТ ЗА ПАРИЧНИТЕ ПОТОЦИ ПО ПРЕКИЯ МЕТОД
A3: =CONCATENATE("на ",UPPER(dfName)) -> на ДОГОВОРЕН ФОНД "ЕФ - ПРИНСИПАЛ"
A4: ="за периода "&TEXT(StartDate,"dd.mm.yyyy")&" - "&TEXT(EndDate,"dd.mm.yyyy") -> за периода 01.01.2020 - 30.06.2020
F5: Дата: | G5: =ReportedCompletionDate -> 44028
F6: Съставител: | G6: =authorName -> Ивелина Иванова
F7: Ръководител: | G7: =udManager -> Иван Овчаров
H8: (в лева)
A9: Наименование на паричните потоци | B9: Код | C9: Текущ период | F9: Предходен период
C10: Постъпления | D10: Плащания | E10: Нетен поток | F10: Постъпления | G10: Плащания | H10: Нетен поток
A11: а | B11: б | C11: 1 | D11: 2 | E11: 3 | F11: 4 | G11: 5 | H11: 6
A12: А. Парични потоци от оперативна дейност
A13: 1. Парични потоци, свързани с емитиране и обратно изкупуване на акции/дялове | B13: OPP.1.1.0.0.0.0 | C13: 4830000 | D13: 0 | E13: =SUM(C13:D13) -> 4830000 | H13: =SUM(F13:G13) -> 0
A14: 2. Парични потоци, свързани с получени заеми, в т.ч.: | B14: OPP.1.2.0.0.0.0 | E14: =SUM(C14:D14) -> 0 | H14: =SUM(F14:G14) -> 0
A15: лихви | B15: OPP.1.2.1.0.0.0 | E15: =SUM(C15:D15) -> 0 | H15: =SUM(F15:G15) -> 0
A16: 3. Плащания при разпределения на печалби | B16: OPP.1.3.0.0.0.0 | E16: =SUM(C16:D16) -> 0 | H16: =SUM(F16:G16) -> 0
A17: 4. Парични потоци, свързани с валутни операции | B17: OPP.1.4.0.0.0.0 | E17: =SUM(C17:D17) -> 0 | H17: =SUM(F17:G17) -> 0
A18: 5. Други парични потоци от оперативна дейност | B18: OPP.1.5.0.0.0.0 | E18: =SUM(C18:D18) -> 0 | H18: =SUM(F18:G18) -> 0
A19: Всичко парични потоци от оперативна дейност (А): | B19: OPP.1.0.0.0.0.0 | C19: =SUM(C13:C14,C16:C18) -> 4830000 | D19: =SUM(D13:D14,D16:D18) -> 0 | E19: =SUM(C19:D19) -> 4830000 | F19: =SUM(F13:F14,F16:F18) -> 0 | G19: =SUM(G13:G14,G16:G18) -> 0 | H19: =SUM(F19:G19) -> 0
A20: Б. Парични потоци от инвестиционна дейност
A21: 1. Парични потоци, свързани с текущи финансови активи | B21: OPP.2.1.0.0.0.0 | C21: 1836653.8 | D21: -6314530.2 | E21: =SUM(C21:D21) -> -4477876.4 | F21: 1829694.8 | G21: -1794234 | H21: =SUM(F21:G21) -> 35460.82
A22: 2. Парични потоци, свързани с нетекущи финансови активи | B22: OPP.2.2.0.0.0.0 | E22: =SUM(C22:D22) -> 0 | H22: =SUM(F22:G22) -> 0
A23: 3. Лихви, комисиони и др. подобни | B23: OPP.2.3.0.0.0.0 | C23: 39567.69 | D23: 0 | E23: =SUM(C23:D23) -> 39567.69 | F23: 65543.29 | H23: =SUM(F23:G23) -> 65543.29
A24: 4. Получени дивиденти | B24: OPP.2.4.0.0.0.0 | E24: =SUM(C24:D24) -> 0 | H24: =SUM(F24:G24) -> 0
A25: 5. Парични потоци, свързани с управляващо дружество | B25: OPP.2.5.0.0.0.0 | C25: 0 | D25: -209651.3 | E25: =SUM(C25:D25) -> -209651.3 | G25: -232674.02 | H25: =SUM(F25:G25) -> -232674.02
A26: 6. Парични потоци, свръзани с банка-депозитар | B26: OPP.2.6.0.0.0.0 | C26: 0 | D26: -9723.1 | E26: =SUM(C26:D26) -> -9723.1 | G26: -10231.24 | H26: =SUM(F26:G26) -> -10231.24
A27: 7. Парични потоци, свързани с валутни операции | B27: OPP.2.7.0.0.0.0 | C27: 236.18 | D27: -411.83 | E27: =SUM(C27:D27) -> -175.65 | F27: 162.13 | G27: -155.25 | H27: =SUM(F27:G27) -> 6.88
A28: 8. Други парични потоци от инвестиционна дейност | B28: OPP.2.8.0.0.0.0 | C28: 0 | D28: -2954.62 | E28: =SUM(C28:D28) -> -2954.62 | G28: =-78.98-8959.51 -> -9038.49 | H28: =SUM(F28:G28) -> -9038.49
A29: Всичко парични потоци от инвестиционна дейност (Б): | B29: OPP.2.0.0.0.0.0 | C29: =SUM(C21:C28) -> 1876457.7 | D29: =SUM(D21:D28) -> -6537271.1 | E29: =SUM(C29:D29) -> -4660813.4 | F29: =SUM(F21:F28) -> 1895400.2 | G29: =SUM(G21:G28) -> -2046333 | H29: =SUM(F29:G29) -> -150932.76
A30: В. Парични потоци от неспециализирана дейност
A31: 1. Парични потоци, свързани с други контрагенти | B31: OPP.3.1.0.0.0.0 | E31: =SUM(C31:D31) -> 0 | H31: =SUM(F31:G31) -> 0
A32: 2. Парични потоци, свързани с нетекущи активи | B32: OPP.3.2.0.0.0.0 | E32: =SUM(C32:D32) -> 0 | H32: =SUM(F32:G32) -> 0
A33: 3. Парични потоци, свързани с възнаграждения | B33: OPP.3.3.0.0.0.0 | E33: =SUM(C33:D33) -> 0 | H33: =SUM(F33:G33) -> 0
A34: 4. Парични потоци, свързани с данъци | B34: OPP.3.4.0.0.0.0 | E34: =SUM(C34:D34) -> 0 | H34: =SUM(F34:G34) -> 0
A35: 5. Други парични потоци от неспециализирана дейност | B35: OPP.3.5.0.0.0.0 | E35: =SUM(C35:D35) -> 0 | H35: =SUM(F35:G35) -> 0
A36: Всичко парични потоци от неспециализирана дейност (В): | B36: OPP.3.0.0.0.0.0 | C36: =SUM(C31:C35) -> 0 | D36: =SUM(D31:D35) -> 0 | E36: =SUM(E31:E35) -> 0 | F36: =SUM(F31:F35) -> 0 | G36: =SUM(G31:G35) -> 0 | H36: =SUM(H31:H35) -> 0
A37: Г. Изменение на паричните средства през периода (А+Б+В) | B37: OPP.4.0.0.0.0.0 | C37: =SUM(C19+C29+C36) -> 6706457.7 | D37: =SUM(D19+D29+D36) -> -6537271.1 | E37: =SUM(E19+E29+E36) -> 169186.61 | F37: =SUM(F19+F29+F36) -> 1895400.2 | G37: =SUM(G19+G29+G36) -> -2046333 | H37: =SUM(H19+H29+H36) -> -150932.76
A38: Д. Парични средства и парични еквиваленти в началото на периода | B38: OPP.5.0.0.0.0.0 | E38: ='1-SB'!D25 -> 1706107.1 | H38: 1310926
A39: Е. Парични средства и парични еквиваленти в края на периода, в т.ч.: | B39: OPP.6.0.0.0.0.0 | E39: =SUM(E37:E38) -> 1875293.7 | H39: =SUM(H37:H38) -> 1159993.2
A40: по безсрочни депозити | B40: OPP.6.1.0.0.0.0 | E40: ='1-SB'!C22 -> 1174593.7 | H40: 459143.2
...

Sheet 4-OSK
I1: Справка № 4 КИС-ОСК
A2: ОТЧЕТ ЗА ИЗМЕНЕНИЯТА В СОБСТВЕНИЯ КАПИТАЛ
A3: =CONCATENATE("на ",UPPER(dfName)) -> на ДОГОВОРЕН ФОНД "ЕФ - ПРИНСИПАЛ"
A4: ="за периода "&TEXT(StartDate,"dd.mm.yyyy")&" - "&TEXT(EndDate,"dd.mm.yyyy") -> за периода 01.01.2020 - 30.06.2020
G5: Дата: | H5: =ReportedCompletionDate -> 44028
G6: Съставител: | H6: =authorName -> Ивелина Иванова
G7: Ръководител: | H7: =udManager -> Иван Овчаров
I8: (в лева)
A9: ПОКАЗАТЕЛИ | B9: Код | C9: Основен капитал | D9: Резерви | G9: Натрупани печалби/загуби | I9: Общо собствен капитал
B10: код | D10: премии от емисия (премиен резерв) | E10: резерв от последващи оценки | F10: общи резерви | G10: печалба | H10: загуба
A12: а | B12: б | C12: 1 | D12: 2 | E12: 3 | F12: 4 | G12: 5 | H12: 6 | I12: 7
A13: Салдо към началото на предходния отчетен период | B13: OSK.2.0.0.0.0.0 | C13: 14955278 | D13: 985830.72 | G13: 671698.15 | H13: -1123478.2 | I13: =SUM(C13:H13) -> 15489329
A14: Салдо в началото на отчетния период | B14: OSK.3.0.0.0.0.0 | C14: ='1-SB'!H11 -> 18057773 | D14: ='1-SB'!H13 -> 1083336 | E14: ='1-SB'!H14 -> 0 | F14: ='1-SB'!H15 -> 0 | G14: ='1-SB'!H19+'1-SB'!H21 -> 699828.77 | H14: ='1-SB'!H20+'1-SB'!H22 -> -1123478.2 | I14: =SUM(C14:H14) -> 18717459
A15: Промени в началните салда поради: | B15: OSK.4.0.0.0.0.0 | C15: =SUM(C16:C17) -> 0 | D15: =SUM(D16:D17) -> 0 | E15: =SUM(E16:E17) -> 0 | F15: =SUM(F16:F17) -> 0 | G15: =SUM(G16:G17) -> 0 | H15: =SUM(H16:H17) -> 0 | I15: =SUM(C15:H15) -> 0
A16: - ефект от промени в счетоводната политика | B16: OSK.4.1.1.0.0.0 | I16: =SUM(C16:H16) -> 0
A17: - корекция на грешки от минали периоди | B17: OSK.4.1.2.0.0.0 | I17: =SUM(C17:H17) -> 0
A18: Коригирано салдо в началото на отчетния период | B18: OSK.5.0.0.0.0.0 | C18: =C14+C15 -> 18057773 | D18: =D14+D15 -> 1083336 | E18: =E14+E15 -> 0 | F18: =F14+F15 -> 0 | G18: =G14+G15 -> 699828.77 | H18: =H14+H15 -> -1123478.2 | I18: =SUM(C18:H18) -> 18717459
A19: Изменение за сметка на собствениците, в т.ч.: | B19: OSK.6.0.0.0.0.0 | C19: =SUM(C20:C21) -> 4763547.2 | D19: =SUM(D20:D21) -> 66452.76 | E19: =SUM(E20:E21) -> 0 | F19: =SUM(F20:F21) -> 0 | G19: =SUM(G20:G21) -> 0 | H19: =SUM(H20:H21) -> 0 | I19: =SUM(C19:H19) -> 4830000
A20: - емитиране | B20: OSK.6.1.1.0.0.0 | C20: 4763547.2 | D20: 78109.64 | I20: =SUM(C20:H20) -> 4841656.9
A21: - обратно изкупуване | B21: OSK.6.1.2.0.0.0 | C21: 0 | D21: -11656.88 | I21: =SUM(C21:H21) -> -11656.88
A22: Нетна печалба/загуба за периода | B22: OSK.7.0.0.0.0.0 | G22: ='1-SB'!G21 -> 0 | H22: ='1-SB'!G22 -> -404949.16 | I22: =SUM(C22:H22) -> -404949.16
A23: 1. Разпределение на печалбата за: | B23: OSK.7.1.0.0.0.0 | C23: =SUM(C24:C25) -> 0 | D23: =SUM(D24:D25) -> 0 | E23: =SUM(E24:E25) -> 0 | F23: =SUM(F24:F25) -> 0 | G23: =SUM(G24:G25) -> 0 | H23: =SUM(H24:H25) -> 0 | I23: =SUM(C23:H23) -> 0
A24: - дивиденти | B24: OSK.7.1.1.0.0.0 | I24: =SUM(C24:H24) -> 0
A25: - други | B25: OSK.7.1.2.0.0.0 | I25: =SUM(C25:H25) -> 0
A26: 2. Покриване на загуби | B26: OSK.7.2.0.0.0.0 | I26: =SUM(C26:H26) -> 0
A27: 3. Последващи оценки на дълготрайни материални и нематериални активи, в т.ч.: | B27: OSK.7.3.0.0.0.0 | C27: =SUM(C28:C29) -> 0 | D27: =SUM(D28:D29) -> 0 | E27: =SUM(E28:E29) -> 0 | F27: =SUM(F28:F29) -> 0 | G27: =SUM(G28:G29) -> 0 | H27: =SUM(H28:H29) -> 0 | I27: =SUM(C27:H27) -> 0
A28: а) увеличения | B28: OSK.7.3.1.0.0.0 | I28: =SUM(C28:H28) -> 0
A29: б) намаления | B29: OSK.7.3.2.0.0.0 | I29: =SUM(C29:H29) -> 0
A30: 4. Последващи оценки на финансови активи и инструменти, в т.ч.: | B30: OSK.7.4.0.0.0.0 | C30: =SUM(C31:C32) -> 0 | D30: =SUM(D31:D32) -> 0 | E30: =SUM(E31:E32) -> 0 | F30: =SUM(F31:F32) -> 0 | G30: =SUM(G31:G32) -> 0 | H30: =SUM(H31:H32) -> 0 | I30: =SUM(C30:H30) -> 0
A31: а) увеличения | B31: OSK.7.4.1.0.0.0 | I31: =SUM(C31:H31) -> 0
A32: б) намаления | B32: OSK.7.4.2.0.0.0 | I32: =SUM(C32:H32) -> 0
A33: 5. Други изменения | B33: OSK.7.5.0.0.0.0 | I33: =SUM(C33:H33) -> 0
A34: Салдо към края на отчетния период | B34: OSK.7.0.0.0.0.0 | C34: =SUM(C18,C19,C22,C23,C26,C27,C30,C33) -> 22821320 | D34: =SUM(D18,D19,D22,D23,D26,D27,D30,D33) -> 1149788.8 | E34: =SUM(E18,E19,E22,E23,E26,E27,E30,E33) -> 0 | F34: =SUM(F18,F19,F22,F23,F26,F27,F30,F33) -> 0 | G34: =SUM(G18,G19,G22,G23,G26,G27,G30,G33) -> 699828.77 | H34: =SUM(H18,H19,H22,H23,H26,H27,H30,H33) -> -1528427.4 | I34: =SUM(C34:H34) -> 23142510
A35: 6. Други промени | B35: OSK.8.0.0.0.0.0 | I35: =SUM(C35:H35) -> 0
A36: Собствен капитал към края на отчетния период | B36: OSK.9.0.0.0.0.0 | C36: =SUM(C34:C35) -> 22821320 | D36: =SUM(D34:D35) -> 1149788.8 | E36: =SUM(E34:E35) -> 0 | F36: =SUM(F34:F35) -> 0 | G36: =SUM(G34:G35) -> 699828.77 | H36: =SUM(H34:H35) -> -1528427.4 | I36: =SUM(C36:H36) -> 23142510
A39: Забележка: Обратното изкупуване, загубата в колона 6, разпределението на печалбата за дивиденти и други по т. 1, покриването на загуби по т. 2, другите изменения по т. 5 (когато са в посока намаление), както и всички намаления по б. "б" се представят с отрицателен знак.

Sheet 5-DI
D1: Справка № 5 КИС - Доп. информация
A2: ДОПЪЛНИТЕЛНА ИНФОРМАЦИЯ ПО ЧЛ. 73, АЛ. 1 ОТ НАРЕДБА № 44
A3: =CONCATENATE("на ",UPPER(dfName)) -> на ДОГОВОРЕН ФОНД "ЕФ - ПРИНСИПАЛ"
A4: ="за периода "&TEXT(StartDate,"dd.mm.yyyy")&" - "&TEXT(EndDate,"dd.mm.yyyy") -> за периода 01.01.2020 - 30.06.2020
C5: Дата: | D5: =ReportedCompletionDate -> 44028
C6: Съставител: | D6: =authorName -> Ивелина Иванова
C7: Ръководител: | D7: =udManager -> Иван Овчаров
A9: Номер по ред | B9: ПОКАЗАТЕЛИ | C9: Код | D9: Стойност
A10: 1 | B10: 2 | C10: 3 | D10: 4
A11: 1 | B11: Валута, в която са емитирани дяловете | C11: DI.1.0.0.0.0.1 | D11: BGN
A12: 2 | B12: Брой дялове в началото на отчетния период | C12: DI.1.0.0.0.0.2 | D12: 18057773
A13: 3 | B13: Брой дялове към края на отчетния период | C13: DI.1.0.0.0.0.3 | D13: 22821320
A14: 4 | B14: Брой емитирани дялове през отчетния период | C14: DI.1.0.0.0.0.4 | D14: 4763547.2
A15: 5 | B15: Стойност на емитираните дялове през отчетния период (в лева) | C15: DI.1.0.0.0.0.5 | D15: 4830000
A16: 6 | B16: Брой обратно изкупени дялове през отчетния период | C16: DI.1.0.0.0.0.6 | D16: 0
A17: 7 | B17: Стойност на обратно изкупените дялове през отчетния период (в лева) | C17: DI.1.0.0.0.0.7 | D17: 0
A18: 8 | B18: Нетна стойност на активите на един дял в началото на отчетния период (в съответната валута) | C18: DI.1.0.0.0.0.8 | D18: 1.0365
A19: 9 | B19: Нетна стойност на активите на един дял към края на отчетния период (в съответната валута) | C19: DI.1.0.0.0.0.9 | D19: 1.0141
A20: 10 | B20: Средногодишна нетна стойност на активите * | C20: DI.1.0.0.0.0.10
A21: 11 | B21: Разходи/такси за управление към УД (в лева) | C21: DI.1.0.0.0.0.11 | D21: 255020.37
A22: 12 | B22: Разходи/такси към депозитаря (в лева) | C22: DI.1.0.0.0.0.12 | D22: 9710.14
A23: 13 | B23: Разходи/такси към инвестиционни посредници, свързани със сделки с активи от портфейла (в лева) | C23: DI.1.0.0.0.0.13 | D23: 13115.7
A24: 14 | B24: Доходност от началото на годината (в %) | C24: DI.1.0.0.0.0.14 | D24: -0.0216
A25: 15 | B25: Доходност от датата на публичното предлагане (в %) | C25: DI.1.0.0.0.0.15 | D25: 0.0006
A26: 16 | B26: Доходност за последните 12 месеца (в %) | C26: DI.1.0.0.0.0.16 | D26: -0.0279
A27: 17 | B27: Стандартно отклонение (в %) | C27: DI.1.0.0.0.0.17 | D27: 0.0384
B30: Забележка:
B31: Стойностите към края на отчетния период следва да бъдат съответно към 30.06. и 31.12. на съответната отчетна година.
B32: * Ред 10 "Средногодишна нетна стойност на активите" се попълва само към 31.12. на съответната година.

Sheet 6-NNA
Q1: Справка № 6 КИС-ННА
A2: СПРАВКА ЗА НЕТЕКУЩИТЕ НЕФИНАНСОВИ АКТИВИ
A3: =CONCATENATE("на ",UPPER(dfName)) -> на ДОГОВОРЕН ФОНД "ЕФ - ПРИНСИПАЛ"
A4: ="за периода "&TEXT(StartDate,"dd.mm.yyyy")&" - "&TEXT(EndDate,"dd.mm.yyyy") -> за периода 01.01.2020 - 30.06.2020
O5: Дата: | P5: =ReportedCompletionDate -> 44028
O6: Съставител: | P6: =authorName -> Ивелина Иванова
O7: Ръководител: | P7: =udManager -> Иван Овчаров
Q8: (в лева)
A9: ПОКАЗАТЕЛИ | B9: Код | C9: Отчетна стойност на нетекущите активи | G9: Преоценка | I9: Преоце-нена стойност (4+5-6) | J9: Амортизация | N9: Преоценка | P9: Преоценена амортизация в края на периода (11+12-13) | Q9: Балансова стойност за текущия период (7-14)
C10: в началото на периода | D10: на постъпи-лите през периода | E10: на излезли-те през периода | F10: в края на периода (1+2-3) | G10: увели-чение | H10: нама-ление | J10: в нача-лото на периода | K10: начис-лена през периода | L10: отписана през периода | M10: в края на периода (8+9-10) | N10: увели-чение | O10: нама-ление
A11: а | B11: б | C11: 1 | D11: 2 | E11: 3 | F11: 4 | G11: 5 | H11: 6 | I11: 7 | J11: 8 | K11: 9 | L11: 10 | M11: 11 | N11: 12 | O11: 13 | P11: 14 | Q11: 15
A12: 1. Материални активи, в т.ч.: | B12: NNA.1.1.0.0.0.0 | C12: =SUM(C13:C16) -> 0 | D12: =SUM(D13:D16) -> 0 | E12: =SUM(E13:E16) -> 0 | F12: =C12+D12-E12 -> 0 | G12: =SUM(G13:G16) -> 0 | H12: =SUM(H13:H16) -> 0 | I12: =F12+G12-H12 -> 0 | J12: =SUM(J13:J16) -> 0 | K12: =SUM(K13:K16) -> 0 | L12: =SUM(L13:L16) -> 0 | M12: =J12+K12-L12 -> 0 | N12: =SUM(N13:N16) -> 0 | O12: =SUM(O13:O16) -> 0 | P12: =M12+N12-O12 -> 0 | Q12: =I12-P12 -> 0
A13: сгради | B13: NNA.1.1.1.0.0.0 | F13: =C13+D13-E13 -> 0 | I13: =F13+G13-H13 -> 0 | M13: =J13+K13-L13 -> 0 | P13: =M13+N13-O13 -> 0 | Q13: =I13-P13 -> 0
A14: офис оборудване | B14: NNA.1.1.2.0.0.0 | F14: =C14+D14-E14 -> 0 | I14: =F14+G14-H14 -> 0 | M14: =J14+K14-L14 -> 0 | P14: =M14+N14-O14 -> 0 | Q14: =I14-P14 -> 0
A15: транспорни средства | B15: NNA.1.1.3.0.0.0 | F15: =C15+D15-E15 -> 0 | I15: =F15+G15-H15 -> 0 | M15: =J15+K15-L15 -> 0 | P15: =M15+N15-O15 -> 0 | Q15: =I15-P15 -> 0
A16: други | B16: NNA.1.1.4.0.0.0 | F16: =C16+D16-E16 -> 0 | I16: =F16+G16-H16 -> 0 | M16: =J16+K16-L16 -> 0 | P16: =M16+N16-O16 -> 0 | Q16: =I16-P16 -> 0
A17: 2. Нематериални активи | B17: NNA.1.2.0.0.0.0 | F17: =C17+D17-E17 -> 0 | I17: =F17+G17-H17 -> 0 | M17: =J17+K17-L17 -> 0 | P17: =M17+N17-O17 -> 0 | Q17: =I17-P17 -> 0
A18: ОБЩО: | B18: NNA.1.0.0.0.0.0 | C18: =SUM(C12+C17) -> 0 | D18: =SUM(D12+D17) -> 0 | E18: =SUM(E12+E17) -> 0 | F18: =C18+D18-E18 -> 0 | G18: =SUM(G12+G17) -> 0 | H18: =SUM(H12+H17) -> 0 | I18: =F18+G18-H18 -> 0 | J18: =SUM(J12+J17) -> 0 | K18: =SUM(K12+K17) -> 0 | L18: =SUM(L12+L17) -> 0 | M18: =J18+K18-L18 -> 0 | N18: =SUM(N12+N17) -> 0 | O18: =SUM(O12+O17) -> 0 | P18: =M18+N18-O18 -> 0 | Q18: =I18-P18 -> 0

Sheet 7-RP
F1: Справка № 7 КИС-ВЗ
A2: СПРАВКА ЗА КРАТКОСРОЧНИТЕ ВЗЕМАНИЯ И ЗАДЪЛЖЕНИЯ
A3: =CONCATENATE("на ",UPPER(dfName)) -> на ДОГОВОРЕН ФОНД "ЕФ - ПРИНСИПАЛ"
A4: =CONCATENATE("към ",TEXT(EndDate,"dd.mm.yyyy")," г.") -> към 30.06.2020 г.
D5: Дата: | E5: =ReportedCompletionDate -> 44028
D6: Съставител: | E6: =authorName -> Ивелина Иванова
D7: Ръководител: | E7: =udManager -> Иван Овчаров
A8: А. ВЗЕМАНИЯ | F8: (в лева)
A9: Показатели | B9: Код | C9: Сума на вземанията | D9: Степен на ликвидност
B10: Код | D10: до 1 месец | E10: до 3 месеца | F10: до една година
A11: а | B11: б | C11: 1 | D11: 2 | E11: 3 | F11: 4
A12: І. Краткосрочни вземания
A13: 1. Вземания, свързани с емитиране | B13: RP.1.1.0.0.0.0 | C13: =SUM(D13:F13) -> 0
A14: 2. Съдебни вземания и присъдени вземания | B14: RP.1.2.0.0.0.0 | C14: =SUM(D14:F14) -> 0
A15: 3. Вземания от съучастия (дивиденти) | B15: RP.1.3.0.0.0.0 | C15: =SUM(D15:F15) -> 0 | D15: 0
A16: 4. Вземания от лихви, в т.ч.: | B16: RP.1.4.0.0.0.0 | C16: =SUM(C17:C19) -> 0 | D16: =SUM(D17:D19) -> 0 | E16: =SUM(E17:E19) -> 0 | F16: =SUM(F17:F19) -> 0
A17: по депозити | B17: RP.1.4.1.0.0.0 | C17: =SUM(D17:F17) -> 0
A18: по дългови фининсови инструменти | B18: RP.1.4.2.0.0.0 | C18: =SUM(D18:F18) -> 0
A19: други | B19: RP.1.4.3.0.0.0 | C19: =SUM(D19:F19) -> 0
A20: 5. Вземания, свързани с финансови инструменти, в т.ч.: | B20: RP.1.5.0.0.0.0 | C20: =SUM(C21:C23) -> 0 | D20: =SUM(D21:D23) -> 0 | E20: =SUM(E21:E23) -> 0 | F20: =SUM(F21:F23) -> 0
A21: при продажба на финансови инструменти | B21: RP.1.5.1.0.0.0 | C21: =SUM(D21:F21) -> 0
A22: увеличения на капитала | B22: RP.1.5.2.0.0.0 | C22: =SUM(D22:F22) -> 0
A23: други | B23: RP.1.5.3.0.0.0 | C23: =SUM(D23:F23) -> 0
A24: 6. Други краткосрочни вземания | B24: RP.1.6.0.0.0.0 | C24: =SUM(D24:F24) -> 0
A25: Общо вземания: | B25: RP.1.0.0.0.0.0 | C25: =C13+C14+C15+C16+C20+C24 -> 0 | D25: =D13+D14+D15+D16+D20+D24 -> 0 | E25: =E13+E14+E15+E16+E20+E24 -> 0 | F25: =F13+F14+F15+F16+F20+F24 -> 0
A27: Б. ЗАДЪЛЖЕНИЯ
A28: Показатели | B28: Код | C28: Сума на задължението | D28: Степен на изискуемост
B29: Код | D29: до 1 месец | E29: до 3 месеца | F29: до една година
A30: а | B30: б | C30: 1 | D30: 2 | E30: 3 | F30: 4
A31: ІІ. Краткосрочни задължения
A32: 1. Задължения по дивиденти | B32: RP.2.1.0.0.0.0 | C32: =SUM(D32:F32) -> 0
A33: 2. Задължения към финансови предприятия, в т.ч.: | B33: RP.2.2.0.0.0.0 | C33: =SUM(C34:C36) -> 0 | D33: =SUM(D34:D36) -> 0 | E33: =SUM(E34:E36) -> 0 | F33: =SUM(F34:F36) -> 0
A34: банка депозитар | B34: RP.2.2.1.0.0.0 | C34: =SUM(D34:F34) -> 0
A35: управляващо дружество | B35: RP.2.2.2.0.0.0 | C35: =SUM(D35:F35) -> 0
A36: други кредитни институции | B36: RP.2.2.3.0.0.0 | C36: =SUM(D36:F36) -> 0
A37: 3. Задължения към контрагенти | B37: RP.2.3.0.0.0.0 | C37: =SUM(D37:F37) -> 0
A38: 4. Задължения, свързани с възнаграждения | B38: RP.2.4.0.0.0.0 | C38: =SUM(D38:F38) -> 0
A39: 5. Задължения към осигурителни предприятия | B39: RP.2.5.0.0.0.0 | C39: =SUM(D39:F39) -> 0
A40: 6. Данъчни задължения | B40: RP.2.6.0.0.0.0 | C40: =SUM(D40:F40) -> 0
A41: 7. Задължения, свързани с емитиране на акции/дялове | B41: RP.2.7.0.0.0.0 | C41: =SUM(D41:F41) -> 0
...

Sheet 8-FI
X1: Справка № 8 КИС-ФИ
D2: СПРАВКА ЗА ФИНАНСОВИТЕ ИНСТРУМЕНТИ
D3: =CONCATENATE("на ",UPPER(dfName)) -> на ДОГОВОРЕН ФОНД "ЕФ - ПРИНСИПАЛ"
D4: =CONCATENATE("към ",TEXT(EndDate,"dd.mm.yyyy")," г.") -> към 30.06.2020 г. | V4: Дата: | W4: =ReportedCompletionDate -> 44028
V5: Съставител: | W5: =authorName -> Ивелина Иванова
V6: Ръководител: | W6: =udManager -> Иван Овчаров
D8: Номер по ред | E8: Информация за емисията | N8: Брой / Номинал | O8: Валута (код) | P8: Стойност на финансовите инструменти | V8: Балансова стойност в края на отчетния период в процент към стойността на активите по баланса на КИС (%) | W8: Процент на участието в капитала на емитента (%) | X8: Балансова категория на финансовия актив
E9: Емитент | F9: ISIN | G9: Вид финансов инструмент | H9: Държава | I9: Налични/ Безналични | J9: Регулиран пазар, на който е допуснат или се търгува | K9: Индекс на регулиран пазар3 | L9: Рейтинг на емисията4 | M9: Агенция за кредитен рейтинг4 | P9: Чиста цена (лева) | Q9: Натрупана лихва (лева) | R9: Валутен курс | S9: Начин на оценка в края на отчетния период | T9: Балансова стойност в началото на отчетния период (лева) | U9: Балансова стойност в края на отчетния период (лева)
A10: Име | B10: РГ | C10: Дата | D10: 1 | E10: 2 | F10: 3 | G10: 4 | H10: 5 | I10: 6 | J10: 7 | K10: 8 | L10: 9 | M10: 10 | N10: 11 | O10: 12 | P10: 13 | Q10: 14 | R10: 15 | S10: 16 | T10: 17 | U10: 18 | V10: 19 | W10: 20 | X10: 21
E11: Инвестиции по чл. 38, ал. 1 от ЗДКИСДПКИ
A12: =IF(ISBLANK(E12),"",dfName) | B12: =IF(ISBLANK(E12),"",dfRG) | C12: =IF(ISBLANK(E12),"",EndDate) | D12: 1
A13: =IF(ISBLANK(E13),"",dfName) | B13: =IF(ISBLANK(E13),"",dfRG) | C13: =IF(ISBLANK(E13),"",EndDate) | D13: 2
A14: =IF(ISBLANK(E14),"",dfName) | B14: =IF(ISBLANK(E14),"",dfRG) | C14: =IF(ISBLANK(E14),"",EndDate) | D14: 3
A15: =IF(ISBLANK(E15),"",dfName) | B15: =IF(ISBLANK(E15),"",dfRG) | C15: =IF(ISBLANK(E15),"",EndDate) | D15: 4
A16: =IF(ISBLANK(E16),"",dfName) | B16: =IF(ISBLANK(E16),"",dfRG) | C16: =IF(ISBLANK(E16),"",EndDate) | D16: 5
A17: =IF(ISBLANK(E17),"",dfName) | B17: =IF(ISBLANK(E17),"",dfRG) | C17: =IF(ISBLANK(E17),"",EndDate) | D17: 6
A18: =IF(ISBLANK(E18),"",dfName) | B18: =IF(ISBLANK(E18),"",dfRG) | C18: =IF(ISBLANK(E18),"",EndDate) | D18: 7
A19: =IF(ISBLANK(E19),"",dfName) | B19: =IF(ISBLANK(E19),"",dfRG) | C19: =IF(ISBLANK(E19),"",EndDate) | D19: 8
A20: =IF(ISBLANK(E20),"",dfName) | B20: =IF(ISBLANK(E20),"",dfRG) | C20: =IF(ISBLANK(E20),"",EndDate) | D20: 9
A21: =IF(ISBLANK(E21),"",dfName) | B21: =IF(ISBLANK(E21),"",dfRG) | C21: =IF(ISBLANK(E21),"",EndDate) | D21: 10
A22: =IF(ISBLANK(E22),"",dfName) | B22: =IF(ISBLANK(E22),"",dfRG) | C22: =IF(ISBLANK(E22),"",EndDate) | D22: 11
A23: =IF(ISBLANK(E23),"",dfName) | B23: =IF(ISBLANK(E23),"",dfRG) | C23: =IF(ISBLANK(E23),"",EndDate) | D23: 12
... A54: =IF(ISBLANK(E54),"",dfName) | B54: =IF(ISBLANK(E54),"",dfRG) | C54: =IF(ISBLANK(E54),"",EndDate) | D54: 43
A55: =IF(ISBLANK(E56),"",dfName) | B55: =IF(ISBLANK(E56),"",dfRG) | C55: =IF(ISBLANK(E56),"",EndDate) | D55: 44
A56: =IF(ISBLANK(#REF!),"",dfName) -> Договорен фонд "ЕФ - Принсипал" | B56: =IF(ISBLANK(#REF!),"",dfRG) -> 05-1204 | C56: =IF(ISBLANK(#REF!),"",EndDate) -> 44012 | D56: 45
A57: =IF(ISBLANK(E57),"",dfName) | B57: =IF(ISBLANK(E57),"",dfRG) | C57: =IF(ISBLANK(E57),"",EndDate) | D57: 46
A58: =IF(ISBLANK(E58),"",dfName) | B58: =IF(ISBLANK(E58),"",dfRG) | C58: =IF(ISBLANK(E58),"",EndDate) | D58: 47
A59: =IF(ISBLANK(E59),"",dfName) | B59: =IF(ISBLANK(E59),"",dfRG) | C59: =IF(ISBLANK(E59),"",EndDate) | D59: 48
A60: =IF(ISBLANK(E60),"",dfName) | B60: =IF(ISBLANK(E60),"",dfRG) | C60: =IF(ISBLANK(E60),"",EndDate) | D60: 49
A61: =IF(ISBLANK(E61),"",dfName) | B61: =IF(ISBLANK(E61),"",dfRG) | C61: =IF(ISBLANK(E61),"",EndDate) | D61: 50
A62: =IF(ISBLANK(E62),"",dfName) | B62: =IF(ISBLANK(E62),"",dfRG) | C62: =IF(ISBLANK(E62),"",EndDate) | D62: 51
A63: =IF(ISBLANK(E63),"",dfName) | B63: =IF(ISBLANK(E63),"",dfRG) | C63: =IF(ISBLANK(E63),"",EndDate) | D63: 52
A64: =IF(ISBLANK(E64),"",dfName) | B64: =IF(ISBLANK(E64),"",dfRG) | C64: =IF(ISBLANK(E64),"",EndDate) | D64: 53
A65: =IF(ISBLANK(E65),"",dfName) | B65: =IF(ISBLANK(E65),"",dfRG) | C65: =IF(ISBLANK(E65),"",EndDate) | D65: 54
A66: =IF(ISBLANK(E66),"",dfName) | B66: =IF(ISBLANK(E66),"",dfRG) | C66: =IF(ISBLANK(E66),"",EndDate) | D66: 55
A67: =IF(ISBLANK(E67),"",dfName) | B67: =IF(ISBLANK(E67),"",dfRG) | C67: =IF(ISBLANK(E67),"",EndDate) | D67: 56
A68: =IF(ISBLANK(E68),"",dfName) | B68: =IF(ISBLANK(E68),"",dfRG) | C68: =IF(ISBLANK(E68),"",EndDate) | D68: 57
... A211: =IF(ISBLANK(E211),"",dfName) | B211: =IF(ISBLANK(E211),"",dfRG) | C211: =IF(ISBLANK(E211),"",EndDate) | D211: 200
E212: Инвестиции по чл. 38, ал. 2 от ЗДКИСДПКИ | T212: Общо по ал. 1 | U212: =SUM(U12:U211) -> 0 | V212: =SUM(V12:V211) -> 0
A213: =IF(ISBLANK(E213),"",dfName) | B213: =IF(ISBLANK(E213),"",dfRG) | C213: =IF(ISBLANK(E213),"",EndDate) | D213: 201
...

Sheet 9-DEPOZITI
F1: Справка № 9 КИС-Депозити
B2: СПРАВКА ЗА БАНКОВИТЕ СРОЧНИ ДЕПОЗИТИ
B3: =CONCATENATE("на ",UPPER(dfName)) -> на ДОГОВОРЕН ФОНД "ЕФ - ПРИНСИПАЛ"
B4: =CONCATENATE("към ",TEXT(EndDate,"dd.mm.yyyy")," г.") -> към 30.06.2020 г. | D4: Дата: | E4: =ReportedCompletionDate -> 44028
D5: Съставител: | E5: =authorName -> Ивелина Иванова
D6: Ръководител: | E6: =udManager -> Иван Овчаров
A8: № по ред | B8: Наименование на банката | C8: Валута на депозита | D8: Размер на депозита в съответната валута | E8: Левова равностойност на депозита (лв.) | F8: % от активите на КИС
A9: 1 | B9: 2 | C9: 3 | D9: 4 | E9: 5 | F9: 6
F10: =E10/'1-SB'!$C$47 -> 0
F11: =E11/'1-SB'!$C$47 -> 0
F12: =E12/'1-SB'!$C$47 -> 0
F13: =E13/'1-SB'!$C$47 -> 0
F14: =E14/'1-SB'!$C$47 -> 0
F15: =E15/'1-SB'!$C$47 -> 0
F16: =E16/'1-SB'!$C$47 -> 0
F17: =E17/'1-SB'!$C$47 -> 0
F18: =E18/'1-SB'!$C$47 -> 0
F19: =E19/'1-SB'!$C$47 -> 0
F20: =E20/'1-SB'!$C$47 -> 0
F21: =E21/'1-SB'!$C$47 -> 0
... F29: =E29/'1-SB'!$C$47 -> 0
E30: =SUM(E10:E29) -> 0

Sheet 10-IG
G1: Справка № 10 КИС-Групи
A2: СПРАВКА ЗА ИНВЕСТИЦИИТЕ НА КИС ВЪВ ФИНАНСОВИ ИНСТРУМЕНТИ, ЕМИТИРАНИ ОТ ДРУЖЕСТВА, ВКЛЮЧЕНИ В ЕДНА ГРУПА ЗА ЦЕЛИТЕ НА СЪСТАВЯНЕ НА КОНСОЛИДИРАН ФИНАНСОВ ОТЧЕТ
A3: =CONCATENATE("на ",UPPER(dfName)) -> на ДОГОВОРЕН ФОНД "ЕФ - ПРИНСИПАЛ"
A4: =CONCATENATE("към ",TEXT(EndDate,"dd.mm.yyyy")," г.") -> към 30.06.2020 г. | E4: Дата: | F4: =ReportedCompletionDate -> 44028
E5: Съставител: | F5: =authorName -> Ивелина Иванова
E6: Ръководител: | F6: =udManager -> Иван Овчаров
A10: № по ред | B10: Наименование на групата | C10: Дружества, включени в групата | D10: Вид финансов инструмент | E10: Балансова стойност на съответния финансов инструмент (в лв.) | F10: Балансова стойност на съответния финансов инструмент в % от активите на КИС | G10: Обща стойност на всички инвестиции в съответната група в % от активите на КИС
A11: 1 | B11: 2 | C11: 3 | D11: 4 | E11: 5 | F11: 6 | G11: 7
F12: =E12/'1-SB'!$C$47 -> 0
F13: =E13/'1-SB'!$C$47 -> 0
F14: =E14/'1-SB'!$C$47 -> 0
F15: =E15/'1-SB'!$C$47 -> 0
F16: =E16/'1-SB'!$C$47 -> 0
F17: =E17/'1-SB'!$C$47 -> 0
F18: =E18/'1-SB'!$C$47 -> 0
F19: =E19/'1-SB'!$C$47 -> 0
F20: =E20/'1-SB'!$C$47 -> 0
F21: =E21/'1-SB'!$C$47 -> 0
F22: =E22/'1-SB'!$C$47 -> 0
F23: =E23/'1-SB'!$C$47 -> 0
... F111: =E111/'1-SB'!$C$47 -> 0
B116: Забележка: | C116: В колона 2 се посочва наименованието на всяка група, а в колона 3 – съответно наименованията на дружествата, включени в тази група за целите на съставяне на консолидиран финансов отчет, в които КИС е инвестирала. В колона 7 се посочва общата стойност на инвестициите в съответната група, представена като процент от активите на КИС.
A120: Пример:
A121: № по ред | B121: Наименование на групата | C121: Дружества, включени в групата | D121: Вид финансов инструмент | E121: Балансова стойност на съответния финансов инструмент (в лв.) | F121: Балансова стойност на съответния финансов инструмент в % от активите на КИС | G121: Обща стойност на всички инвестиции в съответната група в % от активите на КИС
A122: 1 | B122: 2 | C122: 3 | D122: 4 | E122: 5 | F122: 6 | G122: 7
A123: 1 | B123: Група 1 | C123: Дружество 1 | D123: Дялове | E123: 100 | F123: 0.0167 | G123: 0.075
A124: 2 | C124: Дружество 2 | D124: ОКП | E124: 200 | F124: 0.0333
A125: 3 | C125: Дружество 3 | D125: А | E125: 150 | F125: 0.025
A126: 4 | B126: Група 2 | C126: Дружество 4 | D126: Дялове | E126: 300 | F126: 0.05 | G126: 0.0917
A127: 5 | C127: Дружество 5 | D127: Дялове | E127: 250 | F127: 0.0417

Sheet 11-INV 49
E1: Справка № 11 КИС-Инвестиции, чл. 49
A2: СПРАВКА ЗА ИНВЕСТИЦИИТЕ НА КИС ПО ЧЛ. 49, АЛ. 2 ОТ ЗДКИСДПКИ
A3: =CONCATENATE("на ",UPPER(dfName)) -> на ДОГОВОРЕН ФОНД "ЕФ - ПРИНСИПАЛ"
A4: =CONCATENATE("към ",TEXT(EndDate,"dd.mm.yyyy")," г.") -> към 30.06.2020 г. | D4: Дата: | E4: =ReportedCompletionDate -> 44028
D5: Съставител: | E5: =authorName -> Ивелина Иванова
D6: Ръководител: | E6: =udManager -> Иван Овчаров
A8: Номер по ред | B8: Емитент | D8: Брой / номинал | E8: Процент на участието в капитала / емисията / дяловете на КИС / ИПП (%)
C9: Вид финансов инструмент
A10: 1 | B10: 2 | C10: 3 | D10: 4 | E10: 5

Sheet 12-NIO
H1: Справка № 12 КИС-Нарушения, чл. 51
A2: СПРАВКА ЗА НАРУШЕНИ ИНВЕСТИЦИОННИ ОГРАНИЧЕНИЯ, СЪГЛАСНО ЧЛ. 51 ОТ ЗДКИСДПКИ
A3: =CONCATENATE("на ",UPPER(dfName)) -> на ДОГОВОРЕН ФОНД "ЕФ - ПРИНСИПАЛ"
A4: ="за периода "&TEXT(StartDate,"dd.mm.yyyy")&" - "&TEXT(EndDate,"dd.mm.yyyy") -> за периода 01.01.2020 - 30.06.2020
F5: Дата: | G5: =ReportedCompletionDate -> 44028
F6: Съставител: | G6: =authorName -> Ивелина Иванова
F7: Ръководител: | G7: =udManager -> Иван Овчаров
A9: Номер по ред | B9: Нарушено инвестиционно ограничение | C9: Причини за нарушението | D9: Предприети мерки за отстраняване на нарушението | E9: Дата на нарушението | F9: Дата на изтичане на срока по чл. 52 от ЗДКИСДПКИ | G9: Дата на изтичане на срока по чл. 51 от ЗДКИСДПКИ | H9: Дата на отстраняване на нарушението
A10: 1 | B10: 2 | C10: 3 | D10: 4 | E10: 5 | F10: 6 | G10: 7 | H10: 8

Sheet 13-Номенклатури
A1: Вид финансов инсрумент (8-FI) | D1: Държава (8-FI)
A2: А | B2: Акции | D2: A1 | E2: Международна, регионална или европейска организация или институция | G2: Код на валутата (5-DI) (8-FI) (9-DEPOZITI) | J2: Вид депозит (9-DEPOZITI)
A3: ОКП | B3: Корпоративни облигации | D3: AD | E3: Андора | G3: AED | H3: United Arab Emirates Dirham | J3: Безсрочен
A4: ООБ | B4: Общински облигации | D4: AE | E4: Обединени арабски емирства | G4: AFN | H4: Afghanistan Afghani | J4: Срочен
A5: ОИП | B5: Ипотечни облигации | D5: AF | E5: Афганистан | G5: ALL | H5: Albania Lek
A6: ИПП | B6: Инструменти на паричния пазар | D6: AG | E6: Антигуа и Барбуда | G6: AMD | H6: Armenia Dram
A7: ДИ | B7: Деривативни инструменти | D7: AI | E7: Ангила | G7: ANG | H7: Netherlands Antilles Guilder
A8: Дялове | B8: Дялове на КИС | D8: AL | E8: Албания | G8: AOA | H8: Angola Kwanza
A9: ДЦК | B9: Държавни ценни книжа | D9: AM | E9: Армения | G9: ARS | H9: Argentina Peso
A10: Блокирани | B10: Блокирани финансови инструменти | D10: AN | E10: Холандски Антили | G10: AUD | H10: Australia Dollar
A11: Други | B11: Други | D11: AO | E11: Ангола | G11: AWG | H11: Aruba Guilder
D12: AQ | E12: Антарктика | G12: AZN | H12: Azerbaijan New Manat
D13: AR | E13: Аржентина | G13: BAM | H13: Bosnia and Herzegovina Convertible Marka
D14: AS | E14: Американско Самоа | G14: BBD | H14: Barbados Dollar
D15: AT | E15: Австрия | G15: BDT | H15: Bangladesh Taka
A16: Категория на финансовия актив (8-FI) | D16: AU | E16: Австралия | G16: BGN | H16: Bulgaria Lev
A17: Текущи ФА | B17: Текущи финансови активи | D17: AW | E17: Аруба | G17: BHD | H17: Bahrain Dinar
A18: Нетекущи ФА | B18: Нетекущи финансови активи | D18: AZ | E18: Азербайджан | G18: BIF | H18: Burundi Franc
D19: BA | E19: Босна и Херцеговина | G19: BMD | H19: Bermuda Dollar
D20: BB | E20: Барбадос | G20: BND | H20: Brunei Darussalam Dollar
D21: BD | E21: Бангладеш | G21: BOB | H21: Bolivia Bolíviano
A22: Налични/безналични (8-FI) | D22: BE | E22: Белгия | G22: BRL | H22: Brazil Real
A23: Налични | D23: BF | E23: Буркина Фасо | G23: BSD | H23: Bahamas Dollar
A24: Безналични | D24: BG | E24: България | G24: BTN | H24: Bhutan Ngultrum
D25: BH | E25: Бахрейн | G25: BWP | H25: Botswana Pula
D26: BI | E26: Бурунди | G26: BYN | H26: Belarus Ruble
A27: Вид финансов инструмент (10-IG) | D27: BJ | E27: Бенин | G27: BZD | H27: Belize Dollar
A28: А | B28: Акции | D28: BM | E28: Бермуда | G28: CAD | H28: Canada Dollar
A29: ОКП | B29: Корпоративни облигации | D29: BN | E29: Бруней Дерусалам | G29: CDF | H29: Congo/Kinshasa Franc
A30: ОИП | B30: Ипотечни облигации | D30: BO | E30: Боливия | G30: CHF | H30: Switzerland Franc
A31: ИПП | B31: Инструменти на паричния пазар | D31: BR | E31: Бразилия | G31: CLP | H31: Chile Peso
A32: ДИ | B32: Деривативни инструменти | D32: BS | E32: Бахамски острови | G32: CNY | H32: China Yuan Renminbi
A33: Дялове | B33: Дялове на КИС | D33: BT | E33: Бутан | G33: COP | H33: Colombia Peso
A34: Други | B34: Други | D34: BV | E34: Буве остров | G34: CRC | H34: Costa Rica Colon
D35: BW | E35: Ботсуана | G35: CUC | H35: Cuba Convertible Peso
D36: BY | E36: Беларус | G36: CUP | H36: Cuba Peso
A37: Вид финансов инструмент (11-INV 49) | D37: BZ | E37: Белиз | G37: CVE | H37: Cape Verde Escudo
A38: АБПГ | B38: Акции без право на глас | D38: CA | E38: Канада | G38: CZK | H38: Czech Republic Koruna
A39: ОДДЦК | B39: Облигации или др. дългови ЦК | D39: CC | E39: Кокосови острови (или Кийлинг острови) | G39: DJF | H39: Djibouti Franc
A40: ДКИС | B40: Дялове на КИС | D40: CD | E40: Демократична република Конго | G40: DKK | H40: Denmark Krone
...

Sheet Controls
A3: ФОРМАЛЕН КОНТОЛ
A4: =CONCATENATE("на ",UPPER(dfName)) -> на ДОГОВОРЕН ФОНД "ЕФ - ПРИНСИПАЛ"
A5: ="за периода "&TEXT(StartDate,"dd.mm.yyyy")&" - "&TEXT(EndDate,"dd.mm.yyyy") -> за периода 01.01.2020 - 30.06.2020
B8: КИС - ОФС | C8: ОТЧЕТ ЗА ФИНАНСОВОТО СЪСТОЯНИЕ
C9: Съответствие между общата сума на актива и сумата на пасива в ОФС
D10: Текущ период | E10: Предходен период
C11: Сума на актива | D11: ='1-SB'!C47 -> 23189461 | E11: ='1-SB'!D47 -> 18719054
C12: Сума на пасива | D12: ='1-SB'!G47 -> 23189461 | E12: ='1-SB'!H47 -> 18719054
C13: РАЗЛИКА | D13: =D11-D12 -> 0 | E13: =E11-E12 -> 0.010000002
B16: КИС-ОПП | C16: ОТЧЕТ ЗА ПАРИЧНИТЕ ПОТОЦИ
C17: Съответствие между общата стойност на паричните средства в ОПП и ОФС
D18: ОПП | E18: ОФС | F18: РАЗЛИКА
C19: Парични средства | D19: ='3-OPP'!E39 -> 1875293.7 | E19: ='1-SB'!C25 -> 1875293.7 | F19: =D19-E19 -> 0
C20: Парични средства по безсрочни депозити | D20: ='3-OPP'!E40 -> 1174593.7 | E20: ='1-SB'!C22 -> 1174593.7 | F20: =D20-E20 -> 0
B23: КИС-ОСК | C23: ОТЧЕТ ЗА ПРОМЕНИТЕ В СОБСТВЕНИЯ КАПИТАЛ
C24: Съответствие между елементите на собствения капитал в ОСК и ОФС
D25: ОСК | E25: ОФС | F25: РАЗЛИКА
C26: Основен капитал | D26: ='4-OSK'!C36 -> 22821320 | E26: ='1-SB'!G11 -> 22821320 | F26: =D26-E26 -> 0
C27: Резерви | D27: =SUM('4-OSK'!D36:F36) -> 1149788.8 | E27: ='1-SB'!G16 -> 1149788.8 | F27: =D27-E27 -> 0
C28: Печалба | D28: ='4-OSK'!G36 -> 699828.77 | E28: ='1-SB'!G19+'1-SB'!G21 -> 699828.77 | F28: =D28-E28 -> 0
C29: Загуба | D29: ='4-OSK'!H36 -> -1528427.4 | E29: ='1-SB'!G20+'1-SB'!G22 -> -1528427.4 | F29: =D29-E29 -> 0
C30: Общо собствен капитал | D30: ='4-OSK'!I36 -> 23142510 | E30: ='1-SB'!G24 -> 23142510 | F30: =D30-E30 -> 0
B33: КИС-ДРУГИ КОНТРОЛИ
D34: 6-NNA | E34: 1-SB | F34: РАЗЛИКА
C35: Нетекущи нефинансови активи/Други нетекущи активи | D35: ='6-NNA'!Q18 -> 0 | E35: ='1-SB'!C17 -> 0 | F35: =D35-E35 -> 0
D37: 7-RP | E37: 1-SB | F37: РАЗЛИКА
C38: Вземания, свързани с емитиране | D38: ='7-RP'!C13 -> 0 | E38: ='1-SB'!C41 -> 0 | F38: =D38-E38 -> 0
D40: 7-RP | E40: 1-SB | F40: РАЗЛИКА
C41: Общо вземания | D41: ='7-RP'!C25 -> 0 | E41: ='1-SB'!C43 -> 57712.14 | F41: =D41-E41 -> -57712.14
D43: 7-RP | E43: 1-SB | F43: РАЗЛИКА
C44: Общо задължения | D44: ='7-RP'!C46 -> 0 | E44: ='1-SB'!G40 -> 46951.19 | F44: =D44-E44 -> -46951.19
D46: 8-FI | E46: 1-SB | F46: РАЗЛИКА
C47: Обща стойност на финан. инструменти | D47: ='8-FI'!U264 -> 0 | E47: ='1-SB'!C16+'1-SB'!C37 -> 21256455 | F47: =D47-E47 -> -21256455
D49: 9-DEPOZITI | E49: 1-SB | F49: РАЗЛИКА
C50: Банкови депозити | D50: ='9-DEPOZITI'!E30 -> 0 | E50: ='1-SB'!C23 -> 700700 | F50: =D50-E50 -> -700700

Sheet Danni
A1: Наименование | B1: РГ в КФН | C1: Дата | D1: Код | E1: Индикатор | F1: Подиндикатор | G1: Сума
E2: СЧЕТОВОДЕН БАЛАНС
A3: =dfName -> Договорен фонд "ЕФ - Принсипал" | B3: =dfRG -> 05-1204 | C3: =EndDate -> 44012 | E3: А. НЕТЕКУЩИ АКТИВИ | F3: Активи | G3: ='1-SB'!C10 -> 0
A4: =dfName -> Договорен фонд "ЕФ - Принсипал" | B4: =dfRG -> 05-1204 | C4: =EndDate -> 44012 | E4: I. Финансови активи | F4: Активи | G4: ='1-SB'!C11 -> 0
A5: =dfName -> Договорен фонд "ЕФ - Принсипал" | B5: =dfRG -> 05-1204 | C5: =EndDate -> 44012 | D5: SB.1.1.1.1.0.0 | E5: 1. Ценни книжа, в т.ч.: | F5: Активи | G5: ='1-SB'!C12 -> 0
A6: =dfName -> Договорен фонд "ЕФ - Принсипал" | B6: =dfRG -> 05-1204 | C6: =EndDate -> 44012 | D6: SB.1.1.1.1.1.0 | E6: акции | F6: Активи | G6: ='1-SB'!C13 -> 0
A7: =dfName -> Договорен фонд "ЕФ - Принсипал" | B7: =dfRG -> 05-1204 | C7: =EndDate -> 44012 | D7: SB.1.1.1.1.2.0 | E7: дългови | F7: Активи | G7: ='1-SB'!C14 -> 0
A8: =dfName -> Договорен фонд "ЕФ - Принсипал" | B8: =dfRG -> 05-1204 | C8: =EndDate -> 44012 | D8: SB.1.1.1.2.0.0 | E8: 2. Други финансови инструменти | F8: Активи | G8: ='1-SB'!C15 -> 0
A9: =dfName -> Договорен фонд "ЕФ - Принсипал" | B9: =dfRG -> 05-1204 | C9: =EndDate -> 44012 | D9: SB.1.1.1.0.0.0 | E9: Общо за група I | F9: Активи | G9: ='1-SB'!C16 -> 0
A10: =dfName -> Договорен фонд "ЕФ - Принсипал" | B10: =dfRG -> 05-1204 | C10: =EndDate -> 44012 | D10: SB.1.1.2.0.0.0 | E10: II. Други нетекущи активи | F10: Активи | G10: ='1-SB'!C17 -> 0
A11: =dfName -> Договорен фонд "ЕФ - Принсипал" | B11: =dfRG -> 05-1204 | C11: =EndDate -> 44012 | D11: SB.1.1.0.0.0.0 | E11: ОБЩО ЗА РАЗДЕЛ А | F11: Активи | G11: ='1-SB'!C18 -> 0
A12: =dfName -> Договорен фонд "ЕФ - Принсипал" | B12: =dfRG -> 05-1204 | C12: =EndDate -> 44012 | E12: Б. ТЕКУЩИ АКТИВИ | F12: Активи | G12: ='1-SB'!C19 -> 0
A13: =dfName -> Договорен фонд "ЕФ - Принсипал" | B13: =dfRG -> 05-1204 | C13: =EndDate -> 44012 | E13: I. Парични средства | F13: Активи | G13: ='1-SB'!C20 -> 0
A14: =dfName -> Договорен фонд "ЕФ - Принсипал" | B14: =dfRG -> 05-1204 | C14: =EndDate -> 44012 | D14: SB.1.2.1.1.0.0 | E14: 1. Парични средства в каса | F14: Активи | G14: ='1-SB'!C21 -> 0
A15: =dfName -> Договорен фонд "ЕФ - Принсипал" | B15: =dfRG -> 05-1204 | C15: =EndDate -> 44012 | D15: SB.1.2.1.2.0.0 | E15: 2. Парични средства по безсрочни депозити | F15: Активи | G15: ='1-SB'!C22 -> 1174593.7
A16: =dfName -> Договорен фонд "ЕФ - Принсипал" | B16: =dfRG -> 05-1204 | C16: =EndDate -> 44012 | D16: SB.1.2.1.3.0.0 | E16: 3. Парични средства по срочни депозити | F16: Активи | G16: ='1-SB'!C23 -> 700700
A17: =dfName -> Договорен фонд "ЕФ - Принсипал" | B17: =dfRG -> 05-1204 | C17: =EndDate -> 44012 | D17: SB.1.2.1.4.0.0 | E17: 4. Блокирани парични средства | F17: Активи | G17: ='1-SB'!C24 -> 0
A18: =dfName -> Договорен фонд "ЕФ - Принсипал" | B18: =dfRG -> 05-1204 | C18: =EndDate -> 44012 | D18: SB.1.2.1.0.0.0 | E18: Общо за група I | F18: Активи | G18: ='1-SB'!C25 -> 1875293.7
A19: =dfName -> Договорен фонд "ЕФ - Принсипал" | B19: =dfRG -> 05-1204 | C19: =EndDate -> 44012 | E19: II. Текущи финансови инструменти | F19: Активи | G19: ='1-SB'!C26 -> 0
A20: =dfName -> Договорен фонд "ЕФ - Принсипал" | B20: =dfRG -> 05-1204 | C20: =EndDate -> 44012 | D20: SB.1.2.2.1.0.0 | E20: 1. Ценни книжа, в т.ч.: | F20: Активи | G20: ='1-SB'!C27 -> 19066661
A21: =dfName -> Договорен фонд "ЕФ - Принсипал" | B21: =dfRG -> 05-1204 | C21: =EndDate -> 44012 | D21: SB.1.2.2.1.1.0 | E21: акции | F21: Активи | G21: ='1-SB'!C28 -> 15865943
A22: =dfName -> Договорен фонд "ЕФ - Принсипал" | B22: =dfRG -> 05-1204 | C22: =EndDate -> 44012 | D22: SB.1.2.2.1.2.0 | E22: права | F22: Активи | G22: ='1-SB'!C29 -> 0
A23: =dfName -> Договорен фонд "ЕФ - Принсипал" | B23: =dfRG -> 05-1204 | C23: =EndDate -> 44012 | D23: SB.1.2.2.1.3.0 | E23: дългови | F23: Активи | G23: ='1-SB'!C30 -> 2293627
A24: =dfName -> Договорен фонд "ЕФ - Принсипал" | B24: =dfRG -> 05-1204 | C24: =EndDate -> 44012 | D24: SB.1.2.2.1.4.0 | E24: други | F24: Активи | G24: ='1-SB'!C31 -> 907091.09
A25: =dfName -> Договорен фонд "ЕФ - Принсипал" | B25: =dfRG -> 05-1204 | C25: =EndDate -> 44012 | D25: SB.1.2.2.2.0.0 | E25: 2. Инструменти на паричния пазар | F25: Активи | G25: ='1-SB'!C32 -> 0
A26: =dfName -> Договорен фонд "ЕФ - Принсипал" | B26: =dfRG -> 05-1204 | C26: =EndDate -> 44012 | D26: SB.1.2.2.3.0.0 | E26: 3. Дялове на колективни инвестиционни схеми | F26: Активи | G26: ='1-SB'!C33 -> 2189794.7
A27: =dfName -> Договорен фонд "ЕФ - Принсипал" | B27: =dfRG -> 05-1204 | C27: =EndDate -> 44012 | D27: SB.1.2.2.4.0.0 | E27: 4. Деривативни финансови инструменти | F27: Активи | G27: ='1-SB'!C34 -> 0
A28: =dfName -> Договорен фонд "ЕФ - Принсипал" | B28: =dfRG -> 05-1204 | C28: =EndDate -> 44012 | D28: SB.1.2.2.5.0.0 | E28: 5. Блокирани | F28: Активи | G28: ='1-SB'!C35 -> 0
A29: =dfName -> Договорен фонд "ЕФ - Принсипал" | B29: =dfRG -> 05-1204 | C29: =EndDate -> 44012 | D29: SB.1.2.2.6.0.0 | E29: ( | F29: Активи | G29: ='1-SB'!C36 -> 0
A30: =dfName -> Договорен фонд "ЕФ - Принсипал" | B30: =dfRG -> 05-1204 | C30: =EndDate -> 44012 | D30: SB.1.2.2.0.0.0 | E30: Общо за група II | F30: Активи | G30: ='1-SB'!C37 -> 21256455
A31: =dfName -> Договорен фонд "ЕФ - Принсипал" | B31: =dfRG -> 05-1204 | C31: =EndDate -> 44012 | E31: III. Нефинансови активи | F31: Активи | G31: ='1-SB'!C38 -> 0
A32: =dfName -> Договорен фонд "ЕФ - Принсипал" | B32: =dfRG -> 05-1204 | C32: =EndDate -> 44012 | D32: SB.1.2.3.1.0.0 | E32: 1. Вземания, свързани с лихви | F32: Активи | G32: ='1-SB'!C39 -> 10772.22
A33: =dfName -> Договорен фонд "ЕФ - Принсипал" | B33: =dfRG -> 05-1204 | C33: =EndDate -> 44012 | D33: SB.1.2.3.2.0.0 | E33: 2. Вземания по сделки с финансови инструменти | F33: Активи | G33: ='1-SB'!C40 -> 0
A34: =dfName -> Договорен фонд "ЕФ - Принсипал" | B34: =dfRG -> 05-1204 | C34: =EndDate -> 44012 | D34: SB.1.2.3.3.0.0 | E34: 3. Вземания, свързани с емитиране | F34: Активи | G34: ='1-SB'!C41 -> 0
A35: =dfName -> Договорен фонд "ЕФ - Принсипал" | B35: =dfRG -> 05-1204 | C35: =EndDate -> 44012 | D35: SB.1.2.3.4.0.0 | E35: 4. Други | F35: Активи | G35: ='1-SB'!C42 -> 46939.92
A36: =dfName -> Договорен фонд "ЕФ - Принсипал" | B36: =dfRG -> 05-1204 | C36: =EndDate -> 44012 | D36: SB.1.2.3.0.0.0 | E36: Общо за група ІІІ | F36: Активи | G36: ='1-SB'!C43 -> 57712.14
A37: =dfName -> Договорен фонд "ЕФ - Принсипал" | B37: =dfRG -> 05-1204 | C37: =EndDate -> 44012 | D37: SB.1.2.4.0.0.0 | E37: ІV. Разходи за бъдещи периоди | F37: Активи | G37: ='1-SB'!C44 -> 0
A38: =dfName -> Договорен фонд "ЕФ - Принсипал" | B38: =dfRG -> 05-1204 | C38: =EndDate -> 44012 | D38: SB.1.2.0.0.0.0 | E38: ОБЩО ЗА РАЗДЕЛ Б | F38: Активи | G38: ='1-SB'!C45 -> 23189461
A39: =dfName -> Договорен фонд "ЕФ - Принсипал" | B39: =dfRG -> 05-1204 | C39: =EndDate -> 44012 | D39: SB.1.0.0.0.0.0 | E39: СУМА НА АКТИВА | F39: Активи | G39: ='1-SB'!C47 -> 23189461
A40: =dfName -> Договорен фонд "ЕФ - Принсипал" | B40: =dfRG -> 05-1204 | C40: =EndDate -> 44012 | E40: А. СОБСТВЕН КАПИТАЛ | F40: Пасиви | G40: ='1-SB'!G10 -> 0
...

Sheet nomenclature
A1: InstrumentType | D1: Country
A2: А | B2: Акции | D2: A1 | E2: Международна, регионална или европейска организация или институция | G2: Currencies | J2: Deposits
A3: ОКП | B3: Корпоративни облигации | D3: AD | E3: Андора | G3: AED | H3: United Arab Emirates Dirham | J3: Безсрочен
A4: ООБ | B4: Общински облигации | D4: AE | E4: Обединени арабски емирства | G4: AFN | H4: Afghanistan Afghani | J4: Срочен
A5: ОИП | B5: Ипотечни облигации | D5: AF | E5: Афганистан | G5: ALL | H5: Albania Lek
A6: ИПП | B6: Инструменти на паричния пазар | D6: AG | E6: Антигуа и Барбуда | G6: AMD | H6: Armenia Dram
A7: ДИ | B7: Деривативни инструменти | D7: AI | E7: Ангила | G7: ANG | H7: Netherlands Antilles Guilder
A8: Дялове | B8: Дялове на КИС | D8: AL | E8: Албания | G8: AOA | H8: Angola Kwanza
A9: ДЦК | B9: Държавни ценни книжа | D9: AM | E9: Армения | G9: ARS | H9: Argentina Peso
A10: Блокирани | B10: Блокирани финансови инструменти | D10: AN | E10: Холандски Антили | G10: AUD | H10: Australia Dollar
A11: Други | B11: Други | D11: AO | E11: Ангола | G11: AWG | H11: Aruba Guilder
D12: AQ | E12: Антарктика | G12: AZN | H12: Azerbaijan New Manat
D13: AR | E13: Аржентина | G13: BAM | H13: Bosnia and Herzegovina Convertible Marka
D14: AS | E14: Американско Самоа | G14: BBD | H14: Barbados Dollar
D15: AT | E15: Австрия | G15: BDT | H15: Bangladesh Taka
A16: bsType | D16: AU | E16: Австралия | G16: BGN | H16: Bulgaria Lev
A17: Текущи ФА | B17: Текущи финансови активи | D17: AW | E17: Аруба | G17: BHD | H17: Bahrain Dinar
A18: Нетекущи ФА | B18: Нетекущи финансови активи | D18: AZ | E18: Азербайджан | G18: BIF | H18: Burundi Franc
D19: BA | E19: Босна и Херцеговина | G19: BMD | H19: Bermuda Dollar
D20: BB | E20: Барбадос | G20: BND | H20: Brunei Darussalam Dollar
D21: BD | E21: Бангладеш | G21: BOB | H21: Bolivia Bolíviano
A22: SecurityType | D22: BE | E22: Белгия | G22: BRL | H22: Brazil Real
A23: Налични | D23: BF | E23: Буркина Фасо | G23: BSD | H23: Bahamas Dollar
A24: Безналични | D24: BG | E24: България | G24: BTN | H24: Bhutan Ngultrum
D25: BH | E25: Бахрейн | G25: BWP | H25: Botswana Pula
D26: BI | E26: Бурунди | G26: BYN | H26: Belarus Ruble
A27: Instrument_Type_Group | D27: BJ | E27: Бенин | G27: BZD | H27: Belize Dollar
A28: А | B28: Акции | D28: BM | E28: Бермуда | G28: CAD | H28: Canada Dollar
A29: ОКП | B29: Корпоративни облигации | D29: BN | E29: Бруней Дерусалам | G29: CDF | H29: Congo/Kinshasa Franc
A30: ОИП | B30: Ипотечни облигации | D30: BO | E30: Боливия | G30: CHF | H30: Switzerland Franc
A31: ИПП | B31: Инструменти на паричния пазар | D31: BR | E31: Бразилия | G31: CLP | H31: Chile Peso
A32: ДИ | B32: Деривативни инструменти | D32: BS | E32: Бахамски острови | G32: CNY | H32: China Yuan Renminbi
A33: Дялове | B33: Дялове на КИС | D33: BT | E33: Бутан | G33: COP | H33: Colombia Peso
A34: Други | B34: Други | D34: BV | E34: Буве остров | G34: CRC | H34: Costa Rica Colon
D35: BW | E35: Ботсуана | G35: CUC | H35: Cuba Convertible Peso
D36: BY | E36: Беларус | G36: CUP | H36: Cuba Peso
A37: Instrument_49(2) | D37: BZ | E37: Белиз | G37: CVE | H37: Cape Verde Escudo
A38: АБПГ | B38: акции без право на глас | D38: CA | E38: Канада | G38: CZK | H38: Czech Republic Koruna
A39: ОДДЦК | B39: облигации или др. дългови ЦК | D39: CC | E39: Кокосови острови (или Кийлинг острови) | G39: DJF | H39: Djibouti Franc
A40: ДКИС | B40: дялове на КИС | D40: CD | E40: Демократична република Конго | G40: DKK | H40: Denmark Krone
...
