Workbook

Sheet 1
E1: Statement No. 1
A2: Statement of financial position
A3: ETF "EF Principal ETF"
A4: as at 30.06.2022
E5: Date: | F5: 44771
E6: Prepared by: | F6: Ivelina Ivanova
E7: Representatives | F7: Ivan Ovcharov, Ivelina Ivanova
F8: (in BGN)
A9: ASSETS | B9: Current period | C9: Previous period | D9: EQUITY AND LIABILITIES | E9: Current period | F9: Previous period
A10: а | B10: 1 | C10: 2 | D10: а | E10: 1 | F10: 2
A11: А. NON-CURRENT ASSETS | D11: А. EQUITY
A12: I. FINANCIAL ASSETS | D12: I. REGISTERED CAPITAL | E12: 51224156 | F12: 47356744
A13: 1. Securities, incl.: | B13: =B14+B15 -> 0 | C13: =C14+C15 -> 0 | D13: II. RESERVES
A14: shares | B14: 0 | D14: 1. Premium reserves upon emission/repurchase of shares/units | E14: 3502283.7 | F14: 3029684.6
A15: debt | B15: 0 | D15: 2. Reserves from subsequent measurements of assets and liabilities
A16: 2. Other financial instruments | B16: 0 | D16: 3. General reserves
A17: Total for group I | B17: =B13+B16 -> 0 | C17: =C13+C16 -> 0 | D17: Total for group ІІ | E17: =E14+E15+E16 -> 3502283.7 | F17: =F14+F15+F16 -> 3029684.6
A18: II. OTHER NON-CURRENT ASSETS | D18: III. FINANCIAL RESULT
A19: TOTAL FOR SECTION А | B19: =B17+B18 -> 0 | C19: =C17+C18 -> 0 | D19: 1. Accumulated profit (loss), incl.: | E19: =E20+E21 -> 2775782.5 | F19: =F20+F21 -> -282825.52
A20: B. CURRENT ASSETS | D20: undistributed profit | E20: 3899260.7 | F20: 840652.68
A21: I. CASH | B21: 0 | D21: outstanding loss | E21: -1123478.2 | F21: -1123478.2
A22: 1. Cash on hand | B22: 0 | D22: 2. Current profit | E22: 0 | F22: 3058608
A23: 2. Cash on demand deposits | B23: 1095511.4 | C23: 951119.5 | D23: 3. Current loss | E23: -603235.74 | F23: 0
A24: 3. Cash on fixed-term deposits | B24: 1203328.8 | C24: 1203028 | D24: Total for group IІІ | E24: =SUM(E19:E23)-E20-E21 -> 2172546.7 | F24: =SUM(F19:F23)-F20-F21 -> 2775782.5
A25: 4. Frozen cash | D25: TOTAL FOR SECTION А | E25: =E12+E17+E24 -> 56898986 | F25: =F12+F17+F24 -> 53162211
A26: Total for group I | B26: =SUM(B22:B25) -> 2298840.1 | C26: =SUM(C23:C25) -> 2154147.5
A27: II. CURRENT FINANCIAL INSTRUMENTS
A28: 1. Securities, incl.: | B28: =B29+B30+B31+B32 -> 49255242 | C28: =C29+C30+C31+C32 -> 46406880 | D28: B. CURRENT LIABILITIES
A29: shares | B29: 27412121 | C29: 30359450 | D29: 1. Liabilities related to dividends
A30: rights | D30: 2. Liabilities to financial institutions, incl.: | E30: =E31+E32+E33 -> 73591.46 | F30: =F31+F32+F33 -> 86329.11
A31: debt | B31: 18497802 | C31: 12437587 | D31: to a depository bank | E31: 2318.03 | F31: 2202.06
A32: other | B32: 3345319.6 | C32: 3609843.7 | D32: to a management company | E32: 71273.43 | F32: 84127.05
A33: 2. Money market instruments | D33: to credit institutions
A34: 3. Shares in collective investment schemes | B34: 5401110 | C34: 4674315.2 | D34: 3. Liabilities to contractors | E34: 0 | F34: 0
A35: 4. Derivative financial instruments | D35: 4. Liabilities related to remuneration
A36: 5. Blocked ones | D36: 5. Liabilities to social security institutions
A37: 6. Other financial instruments | D37: 6. Tax liabilities
A38: Total for group II | B38: =B28+B33+B34+B35+B36+B37 -> 54656352 | C38: =C28+C33+C34+C35+C36+C37 -> 51081195 | D38: 7. Liabilities related to emission
A39: III. NON-FINANCIAL ASSETS | D39: 8. Liabilities related to repurchase
A40: 1. Receivables related to interest | B40: 16831.36 | C40: 13197.02 | D40: 9. Liabilities related to transactions involving financial instruments
...

Sheet 2
E1: Statement No. 2
A2: Statement of profit or loss and other comprehensive income
A3: ETF "EF Principal ETF"
A4: Reporting period: 01.01.2022-30.06.2022
E5: Date: | F5: ='1'!F5 -> 44771
E6: Prepared by: | F6: Ivelina Ivanova
E7: Representatives: | F7: Ivan Ovcharov, Ivelina Ivanova
F8: (in BGN)
A9: EXPENSES | B9: Current period | C9: Previous period | D9: REVENUES | E9: Current period | F9: Previous period
A10: а | B10: 1 | C10: 2 | D10: а | E10: 1 | F10: 2
A11: А. Operating expenses | D11: А. Operating revenues
A12: I. Financial expenses | D12: І. Financial revenues
A13: 1. Interest expenses | B13: 0 | C13: 0 | D13: 1. Revenues from dividends | E13: 12737.6 | F13: 8959.53
A14: 2. Losses from operations with financial assets | B14: 15633382 | C14: 9007341.8 | D14: 2. Gains from operations with financial assets | E14: 15231997 | F14: 11785176
A15: 3. Losses from subsequent measurement of financial assets | B15: 3569.32 | C15: 7083.42 | D15: 3. Gains from subsequent measurement of financial assets | E15: 3383.42 | F15: 2310.29
A16: 4. Expenses relating to currency operations | B16: 617.92 | C16: 4064.8 | D16: 4. Revenues relating to currency operations | E16: 0.02
A17: 5. Other | B17: 2575.63 | C17: 1824.12 | D17: 5. Revenues from interest | E17: 265391.26 | F17: 91949.02
D18: 6. Other | E18: 0 | F18: 0
A19: Total for group І | B19: =SUM(B13:B18) -> 15640145 | C19: =SUM(C13:C18) -> 9020314.1 | D19: Total for group І | E19: =SUM(E13:E18) -> 15513509 | F19: =SUM(F12:F18) -> 11888395
A20: ІІ. Non-financial expenses | D20: ІІ. Non-financial revenues
A21: 1. Expenses on materials
A22: 2. Expenses on hired services | B22: 476599.74 | C22: 399189.12
A23: 3. Expenses on depreciation and amortisation
A24: 4. Expenses relating to remuneration
A25: 5. Other | B25: 0 | C25: 6234.21
A26: Total for group ІІ | B26: =SUM(B21:B25) -> 476599.74 | C26: =SUM(C22:C25) -> 405423.33 | D26: Total for group ІІ | E26: 0 | F26: 0
A27: B. Total operating expenses (І+ІІ) | B27: =SUM(B19,B26) -> 16116745 | C27: =C26+C19 -> 9425737.5 | D27: B. Total operating revenues (I+II) | E27: =SUM(E19,E26) -> 15513509 | F27: =F26+F19 -> 11888395
A28: C. Profit before taxation | B28: =IF(E27>B27, E27-B27,0) -> 0 | C28: =IF(F27>C27, F27-C27,0) -> 2462657.7 | D28: C. Loss before taxation | E28: =IF(B27>E27,B27-E27,0) -> 603235.74 | F28: =IF(C27>F27,C27-F27,0) -> 0
A29: III. Tax expenses
A30: D. Net profit for the period (C-III) | B30: =B28-B29 -> 0 | C30: =C28-C29 -> 2462657.7 | D30: D. Net loss for the period | E30: =E28 -> 603235.74 | F30: =F28 -> 0
A31: TOTAL (B+III+D) | B31: =B27+B29+B30 -> 16116745 | C31: =C27+C29+C30 -> 11888395 | D31: TOTAL (B+D) | E31: =E27+E30 -> 16116745 | F31: =F27+F30 -> 11888395

Sheet 3
E1: Statement No. З
A2: CASH FLOW STATEMENT
A3: ETF "EF Principal ETF"
A4: Reporting period: 01.01.2022-30.06.2022
E5: Date: | F5: ='1'!F5 -> 44771
E6: Prepared by: | F6: Ivelina Ivanova
E7: Representatives: | F7: Ivan Ovcharov, Ivelina Ivanova
G8: (in BGN)
A9: Cash flow name | B9: Current period | E9: Previous period
B10: Proceeds | C10: Payments | D10: Net flow | E10: Proceeds | F10: Payments | G10: Net flow
A11: а | B11: 1 | C11: 2 | D11: 3 | E11: 4 | F11: 5 | G11: 6
A12: А. Cash flows from operative activity
A13: Emission and repurchase of shares/units | B13: 4340016.1 | C13: -4.76 | D13: =B13+C13 -> 4340011.3 | E13: 16129081 | F13: -802669.4 | G13: =E13+F13 -> 15326412
A14: Cash flows relating to loans received, incl.: | D14: =B14+C14 -> 0 | G14: 0
A15: interest | D15: =B15+C15 -> 0 | G15: 0
A16: Payments upon distribution of profits | D16: =B16+C16 -> 0 | G16: 0
A17: Cash flows from currency operations and revaluation | D17: =B17+C17 -> 0 | G17: 0
A18: Other cash flows from opereative activity | D18: =B18+C18 -> 0 | G18: 0
A19: Total cash flows from operative activity (А): | B19: =SUM(B13:B18) -> 4340016.1 | C19: =SUM(C13:C18) -> -4.76 | D19: =B19+C19 -> 4340011.3 | E19: =E13 -> 16129081 | F19: =F13 -> -802669.4 | G19: =SUM(G13:G18) -> 15326412
A20: B. Cash flows from investment activity
A21: Cash flows relating to current financial assets | B21: 10193807 | C21: -14124605 | D21: =B21+C21 -> -3930797.8 | E21: 5568234.3 | F21: -20343971 | G21: =E21+F21 -> -14775736
A22: Cash flows relating to non-current financial assets | D22: =B22+C22 -> 0 | G22: =E22+F22 -> 0
A23: Interest, commission and other similar | B23: 208816.67 | C23: 0 | D23: =B23+C23 -> 208816.67 | E23: 59606.59 | F23: 0 | G23: =E23+F23 -> 59606.59
A24: Dividends received | D24: =B24+C24 -> 0 | G24: =E24+F24 -> 0
A25: Cash flows relating to a management company | B25: 0 | C25: -454597.18 | D25: =B25+C25 -> -454597.18 | E25: 0 | F25: -351704.6 | G25: =E25+F25 -> -351704.6
A26: Cash flows relating to a depository bank | B26: 0 | C26: -13740.82 | D26: =B26+C26 -> -13740.82 | E26: 0 | F26: -10772.41 | G26: =E26+F26 -> -10772.41
A27: Cash flows relating to currency operations | B27: 137.06 | C27: -714.65 | D27: =B27+C27 -> -577.59 | E27: 115.81 | F27: -4161.31 | G27: =E27+F27 -> -4045.5
A28: Other cash flows from investment activity | B28: 0 | C28: -4421.93 | D28: =B28+C28 -> -4421.93 | E28: 0 | F28: -4036.02 | G28: =E28+F28 -> -4036.02
A29: Total cash flows from investment activity (B): | B29: =SUM(B21:B28) -> 10402761 | C29: =SUM(C21:C28) -> -14598080 | D29: =B29+C29 -> -4195318.7 | E29: =SUM(E21:E28) -> 5627956.7 | F29: =SUM(F21:F28) -> -20714645 | G29: =SUM(G21:G28) -> -15086688
A30: C. Cash flows from non-specialised activity
A31: Cash flows relating to other contractors | B31: 0 | C31: 0 | D31: =B31-C31 -> 0 | E31: 0 | F31: 0 | G31: 0
A32: Cash flows relating to non-current assets | B32: 0 | C32: 0 | D32: =B32-C32 -> 0 | E32: 0 | F32: 0 | G32: 0
A33: Cash flows relating to remuneration | B33: 0 | C33: 0 | D33: =B33-C33 -> 0 | E33: 0 | F33: 0 | G33: 0
A34: Cash flows relating to taxes | B34: 0 | C34: 0 | D34: =B34-C34 -> 0 | E34: 0 | F34: 0 | G34: 0
A35: Other cash flows from non-specialised activity | B35: 0 | C35: 0 | D35: =B35-C35 -> 0 | E35: 0 | F35: 0 | G35: 0
A36: Total cash flows from non-specialised activity (C): | B36: =SUM(B31:B35) -> 0 | C36: =SUM(C31:C35) -> 0 | D36: =B36-C36 -> 0 | E36: 0 | F36: 0 | G36: 0
A37: D. Changes in cash during the period (А+B+C) | B37: =B36+B29+B19 -> 14742777 | C37: =C36+C29+C19 -> -14598085 | D37: =D19+D29+D36 -> 144692.63 | E37: =E19+E29 -> 21757038 | F37: =F19+F29 -> -21517314 | G37: =G19+G29 -> 239723.39
A38: E. Cash at the beginning of the period | D38: 2154147.5 | G38: 1881022.4
A39: F. Cash at the end of the period, incl.: | D39: =D37+D38 -> 2298840.1 | G39: =G37+G38 -> 2120745.7
A40: on demand deposits | D40: 1095511.4 | G40: 918443.99

Sheet 4
G1: Statement No. 4
A2: STATEMENT OF CHANGES IN EQUITY
A3: ETF "EF Principal ETF"
A4: Reporting period: 01.01.2022-30.06.2022
F5: Date: | G5: ='1'!F5 -> 44771
F6: Prepared by: | G6: Ivelina Ivanova
F7: Representatives: | G7: Ivan Ovcharov, Ivelina Ivanova
H8: ( in BGN)
A9: INDICATORS | B9: Registered capital | C9: Reserves | F9: Accumulated profit/loss | H9: Total equity
C10: share premium | D10: subse-quent measurement reserve | E10: total reserves | F10: profit | G10: loss
A12: а | B12: 1 | C12: 2 | D12: 3 | E12: 4 | F12: 5 | G12: 6 | H12: 7
A13: Balance at the beginning of the previous reporting period | B13: 24513688 | C13: 1187420.3 | F13: 840652.68 | G13: -1123478.2 | H13: =SUM(B13:G13) -> 25418283
A14: Balance at the beginning of the reporting period | B14: ='1'!F12 -> 47356744 | C14: ='1'!F14 -> 3029684.6 | F14: ='1'!F20+'1'!F22 -> 3899260.7 | G14: ='1'!E21 -> -1123478.2 | H14: =SUM(B14:G14) -> 53162211
A15: Changes in opening balances due to: | B15: =SUM(B16:B17) -> 0 | C15: =SUM(C16:C17) -> 0 | D15: =SUM(D16:D17) -> 0 | E15: =SUM(E16:E17) -> 0 | F15: =SUM(F16:F17) -> 0 | G15: =SUM(G16:G17) -> 0 | H15: =SUM(B15:G15) -> 0
A16: Effect of changes in the accounting policy | H16: =SUM(B16:G16) -> 0
A17: Fundamental errors | H17: =SUM(B17:G17) -> 0
A18: Adjusted balance at the beginning of the reporting period | B18: =B14+B15 -> 47356744 | C18: =C14+C15 -> 3029684.6 | D18: =D14+D15 -> 0 | E18: =E14+E15 -> 0 | F18: =F14+F15 -> 3899260.7 | G18: =G14+G15 -> -1123478.2 | H18: =SUM(B18:G18) -> 53162211
A19: Changes at the expense of the owners, incl.: | B19: =SUM(B20:B21) -> 3867412.3 | C19: =SUM(C20:C21) -> 472599.05 | D19: =SUM(D20:D21) -> 0 | E19: =SUM(E20:E21) -> 0 | F19: =SUM(F20:F21) -> 0 | G19: =SUM(G20:G21) -> 0 | H19: =SUM(B19:G19) -> 4340011.3
A20: emission | B20: 3867412.3 | C20: 472599.05 | H20: =SUM(B20:G20) -> 4340011.3
A21: repurchase | H21: =SUM(B21:G21) -> 0
A22: Net profit/loss for the period | F22: ='1'!E22 -> 0 | G22: ='1'!E23 -> -603235.74 | H22: =SUM(B22:G22) -> -603235.74
A23: 1. Distribution of the profit for dividends | H23: =SUM(B23:G23) -> 0
A24: 2. Loss coverage | H24: =SUM(B24:G24) -> 0
A25: 3. Subsequent measurement of fixed tangible and intangible assets, incl.: | B25: =SUM(B26:B27) -> 0 | C25: =SUM(C26:C27) -> 0 | D25: =SUM(D26:D27) -> 0 | E25: =SUM(E26:E27) -> 0 | F25: =SUM(F26:F27) -> 0 | G25: =SUM(G26:G27) -> 0 | H25: =SUM(B25:G25) -> 0
A26: increase | H26: =SUM(B26:G26) -> 0
A27: decrease | H27: =SUM(B27:G27) -> 0
A28: 4. Subsequent measurement of financial assets and instruments, incl.: | B28: =SUM(B29:B30) -> 0 | C28: =SUM(C29:C30) -> 0 | D28: =SUM(D29:D30) -> 0 | E28: =SUM(E29:E30) -> 0 | F28: =SUM(F29:F30) -> 0 | G28: =SUM(G29:G30) -> 0 | H28: =SUM(B28:G28) -> 0
A29: increase | H29: =SUM(B29:G29) -> 0
A30: decrease | H30: =SUM(B30:G30) -> 0
A31: 5. Other changes | H31: =SUM(B31:G31) -> 0
A32: Balance as at the end of the reporting period | B32: =SUM(B18+B19+B22+B23+B24+B25+B28+B31) -> 51224156 | C32: =SUM(C18+C19+C22+C23+C24+C25+C28+C31) -> 3502283.7 | D32: =SUM(D18+D19+D22+D23+D24+D25+D28+D31) -> 0 | E32: =SUM(E18+E19+E22+E23+E24+E25+E28+E31) -> 0 | F32: =SUM(F18+F19+F22+F23+F24+F25+F28+F31) -> 3899260.7 | G32: =SUM(G18+G19+G22+G23+G24+G25+G28+G31) -> -1726713.9 | H32: =SUM(B32:G32) -> 56898986
A33: 6. Other changes | H33: =SUM(B33:G33) -> 0
A34: Equity as at the end of the reporting period | B34: =B32+B33 -> 51224156 | C34: =C32+C33 -> 3502283.7 | D34: =D32+D33 -> 0 | E34: =E32+E33 -> 0 | F34: =F32+F33 -> 3899260.7 | G34: =G32+G33 -> -1726713.9 | H34: =SUM(B34:G34) -> 56898986

Sheet 5
C1: Statement No. 5
B2: ADDITIONAL INFORMATION RELATED TO ART. 73, PARA. 1 OF ORDINANCE 44
B3: ETF "EF Principal ETF"
B4: 01.01.2022-30.06.2022
B5: Date: | C5: ='1'!F5 -> 44771
B6: Prepared by: | C6: Ivelina Ivanova
B7: Representatives: | C7: Ivan Ovcharov, Ivelina Ivanova
A9: Number | B9: INDICATORS | C9: Value
A10: 1 | B10: Currency | C10: BGN
A11: 2 | B11: Number of shares at the beginning of the reporting period | C11: 47356744
A12: 3 | B12: Number of shares as at the end of the reporting period | C12: 51224156
A13: 4 | B13: Number of issue shares | C13: 3867412.3
A14: 5 | B14: Value of issue shares (BGN) | C14: 4340011.3
A15: 6 | B15: Number of repurchase shares | C15: 0
A16: 7 | B16: Value of repurchase shares (BGN) | C16: 0
A17: 8 | B17: Net value of assets per share at the beginning of the reporting period (BGN) | C17: 1.1226
A18: 9 | B18: Net value of assets per share s at the end of the reporting period (BGN) | C18: 1.1108
A19: 10 | B19: Аverage annual NAV (in BGN)
A20: 11 | B20: Аverage annual NAV (in the relevant currency)
A21: 12 | B21: Management company remuneration (BGN) | C21: 441743.56
A22: 13 | B22: Custodian bank remuneration (BGN) | C22: 13676.79
A23: 14 | B23: Investment intermediary commissions (BGN) | C23: 19153.09
A24: 15 | B24: Yield YTD (Not Annualized) (%) | C24: -0.0105
A25: 16 | B25: Yield for started (%) | C25: 0.006
A26: 17 | B26: Yield for last 12 months (%) | C26: -0.0021
A27: 18 | B27: Standart diviation (%) | C27: 0.0521
